BEGIN:VCALENDAR
VERSION:2.0
PRODID:-//Royal Canadian Slovak Legion Branch #129 - ECPv5.15.0//NONSGML v1.0//EN
CALSCALE:GREGORIAN
METHOD:PUBLISH
X-WR-CALNAME:Royal Canadian Slovak Legion Branch #129
X-ORIGINAL-URL:https://slovaklegion.com
X-WR-CALDESC:Events for Royal Canadian Slovak Legion Branch #129
BEGIN:VTIMEZONE
TZID:UTC
BEGIN:STANDARD
TZOFFSETFROM:+0000
TZOFFSETTO:+0000
TZNAME:UTC
DTSTART:20220101T000000
END:STANDARD
END:VTIMEZONE
BEGIN:VEVENT
DTSTART;TZID=UTC:20221229T090000
DTEND;TZID=UTC:20230103T120000
DTSTAMP:20260421T200843
CREATED:20221030T193518Z
LAST-MODIFIED:20221229T161521Z
UID:18952-1672304400-1672747200@slovaklegion.com
SUMMARY:Slovak Legion New Year's Eve Gala CANCELLED
DESCRIPTION:THE SLOVAK LEGION NEW YEAR’S EVE GALA CANCELLED.\nDue to unforeseen circumstances\, the Slovak Legion regrets the cancellation of its New Year’s Eve Gala. Please contact the office for full refund at 623-3354 Ext 1.   Thank you and we look forward to serving you in 2023.\nWe hope everyone has a healthier and safer 2023.
URL:https://slovaklegion.com/event/new-years-gala-with-the-band-21-gun-fun/
LOCATION:The Slovak Legion\, 801 Atlantic Ave\, Thunder Bay\, Ontario\, P7C 2T3\, Canada
CATEGORIES:Public
END:VEVENT
BEGIN:VEVENT
DTSTART;TZID=UTC:20221230T113000
DTEND;TZID=UTC:20221230T133000
DTSTAMP:20260421T200843
CREATED:20221223T031628Z
LAST-MODIFIED:20221223T031628Z
UID:19040-1672399800-1672407000@slovaklegion.com
SUMMARY:Slovak Legion Lunch Buffet Friday December 30 11:30am to 1:30pm only
DESCRIPTION:On behalf of the Royal Canadian Slovak Legion Branch#129\, we are pleased to welcome our Patrons back for our famous Lunch Buffets  Friday December 29 from 11:30am to 1:30pm with Bar.  Includes dessert and pop/coffee/tea.   \nThe Bar also remains open for the rest of the day for socializing.  The Slovak Restaurant opens at 5pm.
URL:https://slovaklegion.com/event/slovak-legion-lunch-buffet-friday-december-30-1130am-to-130pm-only/
LOCATION:Ontario
CATEGORIES:Public
END:VEVENT
END:VCALENDAR