BEGIN:VCALENDAR
VERSION:2.0
PRODID:-//Royal Canadian Slovak Legion Branch #129 - ECPv5.15.0//NONSGML v1.0//EN
CALSCALE:GREGORIAN
METHOD:PUBLISH
X-WR-CALNAME:Royal Canadian Slovak Legion Branch #129
X-ORIGINAL-URL:https://slovaklegion.com
X-WR-CALDESC:Events for Royal Canadian Slovak Legion Branch #129
BEGIN:VTIMEZONE
TZID:UTC
BEGIN:STANDARD
TZOFFSETFROM:+0000
TZOFFSETTO:+0000
TZNAME:UTC
DTSTART:20220101T000000
END:STANDARD
END:VTIMEZONE
BEGIN:VEVENT
DTSTART;TZID=UTC:20221201T090000
DTEND;TZID=UTC:20221216T120000
DTSTAMP:20260421T223546
CREATED:20221201T083142Z
LAST-MODIFIED:20221202T215423Z
UID:19006-1669885200-1671192000@slovaklegion.com
SUMMARY:Christmas Cabbage Roll & Perogie Orders Being Taken
DESCRIPTION:Christmas Slovak Cabbage Rolls with Meat\, and Perogie orders are now being taken by the Royal Canadian Slovak Legion Branch#129.  Perfect for your Holiday Celebrations or just great food to share.\nTo order please phone 623-3354 Ext. 1 or 2\, Monday to Friday between 9am and 12 noon.  Last date to order will be Friday December 16\, 2022 and pick up date will be Friday December 23\, 2022 between 9am and 1pm.\nPerogies $7 a dozen\, Slovak Cabbage Rolls with Meat $13 a dozen.\nPickup is at the Slovak Legion…Just over the bridge.  Thank you for your support.
URL:https://slovaklegion.com/event/christmas-cabbage-roll-perogie-orders-being-taken/
LOCATION:The Slovak Legion\, 801 Atlantic Ave\, Thunder Bay\, Ontario\, P7C 2T3\, Canada
CATEGORIES:Public
END:VEVENT
BEGIN:VEVENT
DTSTART;TZID=UTC:20221208T113000
DTEND;TZID=UTC:20221209T133000
DTSTAMP:20260421T223546
CREATED:20221201T191119Z
LAST-MODIFIED:20221201T191119Z
UID:19018-1670499000-1670592600@slovaklegion.com
SUMMARY:Slovak Legion Lunch Buffets Thursdays and Fridays 11:30am to 1:30pm
DESCRIPTION:On behalf of the Royal Canadian Slovak Legion Branch#129\, we are pleased to welcome our Patrons back for our famous Lunch Buffets Thursdays and Fridays from 11:30am to 1:30pm with Bar.  Includes dessert and pop/coffee/tea.   \nThe Bar also remains open for the rest of the day for socializing.  The Slovak Restaurant opens at 5pm.
URL:https://slovaklegion.com/event/slovak-legion-lunch-buffets-thursdays-and-fridays-1130am-to-130pm/
LOCATION:The Slovak Legion\, 801 Atlantic Ave\, Thunder Bay\, Ontario\, P7C 2T3\, Canada
END:VEVENT
END:VCALENDAR