BEGIN:VCALENDAR
VERSION:2.0
PRODID:-//Royal Canadian Slovak Legion Branch #129 - ECPv5.15.0//NONSGML v1.0//EN
CALSCALE:GREGORIAN
METHOD:PUBLISH
X-WR-CALNAME:Royal Canadian Slovak Legion Branch #129
X-ORIGINAL-URL:https://slovaklegion.com
X-WR-CALDESC:Events for Royal Canadian Slovak Legion Branch #129
BEGIN:VTIMEZONE
TZID:UTC
BEGIN:STANDARD
TZOFFSETFROM:+0000
TZOFFSETTO:+0000
TZNAME:UTC
DTSTART:20220101T000000
END:STANDARD
END:VTIMEZONE
BEGIN:VEVENT
DTSTART;TZID=UTC:20220921T160000
DTEND;TZID=UTC:20220924T210000
DTSTAMP:20260421T232015
CREATED:20220908T150558Z
LAST-MODIFIED:20220914T153203Z
UID:18816-1663776000-1664053200@slovaklegion.com
SUMMARY:Bar & Restaurant Hours & Menu
DESCRIPTION:Wednesdays:  Our Bar opens at 4pm with the Restaurant opening at 5pm.   (Hours will be extended as needed) \nThursdays:  Our Bar opens at 4pm with the Restaurant opening at 5pm.   (Hours will be extended as needed) \nThursdays:  The Slovak Legion “Catch the Ace Lottery” returns in September 15\, 2022. \n\n\nThe Slovak Legion Catch The Ace Progressive Draw is back again in the Bar with its Progressive Jackpot on Thursday September 15\, 2022.  Ticket sales from 6:00 p.m. to 8:00 p.m. and draw is at 8:30 p.m.   Licence M835717.  A 50/50 Draw will also be held every Thursday Licence Number M835716.  Hope to see you out!\n\n\nEnjoy Supper at the Bar as well!\n\n\nFridays 11:30am to 1:30pm:  Our famous “Slovak Legion Lunch Buffet” returns with our favourites just for you with Bar. The Bar also remains open for the rest of the day for socializing.  The Slovak Restaurant opens at 5pm on Friday. (Hours will be extended as needed) \nSaturdays :  Our Bar opens at 4pm with the Restaurant opening at 5pm. (Hours will be extended as needed)
URL:https://slovaklegion.com/event/bar-restaurant-hours-menu-25/
LOCATION:The Slovak Legion\, 801 Atlantic Ave\, Thunder Bay\, Ontario\, P7C 2T3\, Canada
CATEGORIES:Public
END:VEVENT
BEGIN:VEVENT
DTSTART;TZID=UTC:20220922T180000
DTEND;TZID=UTC:20220922T210000
DTSTAMP:20260421T232015
CREATED:20220914T153735Z
LAST-MODIFIED:20220922T040116Z
UID:18835-1663869600-1663880400@slovaklegion.com
SUMMARY:Slovak Legion Catch the Ace Lottery Thursdays
DESCRIPTION:  \n  \n  \n\nThe Slovak Legion Catch The Ace Progressive Draw is  in the Bar with its Progressive Jackpot on Thursday September 22\, 2022.  Ticket sales from 6:00 p.m. to 8:00 p.m. and draw is at 8:30 p.m.   Licence M835717.  A 50/50 Draw will also be held every Thursday Licence Number M835716.  Hope to see you out!\n\n\n\nEnjoy Supper at the Bar as well!
URL:https://slovaklegion.com/event/slovak-legion-catch-the-ace-lottery-thursdays-17/
LOCATION:The Slovak Legion\, 801 Atlantic Ave\, Thunder Bay\, Ontario\, P7C 2T3\, Canada
CATEGORIES:Public
END:VEVENT
END:VCALENDAR