BEGIN:VCALENDAR
VERSION:2.0
PRODID:-//Royal Canadian Slovak Legion Branch #129 - ECPv5.15.0//NONSGML v1.0//EN
CALSCALE:GREGORIAN
METHOD:PUBLISH
X-WR-CALNAME:Royal Canadian Slovak Legion Branch #129
X-ORIGINAL-URL:https://slovaklegion.com
X-WR-CALDESC:Events for Royal Canadian Slovak Legion Branch #129
BEGIN:VTIMEZONE
TZID:UTC
BEGIN:STANDARD
TZOFFSETFROM:+0000
TZOFFSETTO:+0000
TZNAME:UTC
DTSTART:20220101T000000
END:STANDARD
END:VTIMEZONE
BEGIN:VEVENT
DTSTART;TZID=UTC:20220821T110000
DTEND;TZID=UTC:20220821T160000
DTSTAMP:20260422T004048
CREATED:20220808T180056Z
LAST-MODIFIED:20220816T211148Z
UID:18760-1661079600-1661097600@slovaklegion.com
SUMMARY:Slovak Legion Tailgate & Takeout Sunday August 21 Click for Info
DESCRIPTION:Slovak Legion Tailgate & Takeout at the Slovak Legion Sunday August 21  11-4pm \nJoin us for some LOCAL Shopping & BBQ \nSupport LOCAL Vendors and the Slovak Legion while having a great Family Day out. \n**A few spots OPEN. TEXT Nancy at 627-5454 or click this link Local Vendor Download Form\n\n\n\n\n\n\n\n\n\nWe welcome you to come out and support the Slovak Legion and have some time to socialize with family and friends in a safe environment that will allow social distancing out and inside our Slovak Legion.\n\n\n\n\nThe Slovak Legion will be offering some delicious fun food items for purchase to help get you enjoy yourself. ELEPHANT EARS\, Hamburgers\, Hotdogs\, Fries\, and Ice Cream will be available for purchase AND our Bar will be open to serve you Refreshments.\n\n\nSee you at the Slovak Legion 801 Atlantic Avenue!
URL:https://slovaklegion.com/event/tailgate-takeout-at-the-slovak-legion-sunday-august-21/
LOCATION:The Slovak Legion\, 801 Atlantic Ave\, Thunder Bay\, Ontario\, P7C 2T3\, Canada
CATEGORIES:Public
END:VEVENT
END:VCALENDAR