BEGIN:VCALENDAR
VERSION:2.0
PRODID:-//Royal Canadian Slovak Legion Branch #129 - ECPv5.15.0//NONSGML v1.0//EN
CALSCALE:GREGORIAN
METHOD:PUBLISH
X-WR-CALNAME:Royal Canadian Slovak Legion Branch #129
X-ORIGINAL-URL:https://slovaklegion.com
X-WR-CALDESC:Events for Royal Canadian Slovak Legion Branch #129
BEGIN:VTIMEZONE
TZID:UTC
BEGIN:STANDARD
TZOFFSETFROM:+0000
TZOFFSETTO:+0000
TZNAME:UTC
DTSTART:20220101T000000
END:STANDARD
END:VTIMEZONE
BEGIN:VEVENT
DTSTART;TZID=UTC:20220622T160000
DTEND;TZID=UTC:20220625T210000
DTSTAMP:20260422T033013
CREATED:20220621T021910Z
LAST-MODIFIED:20220630T171104Z
UID:18695-1655913600-1656190800@slovaklegion.com
SUMMARY:Bar & Restaurant Hours & Menu
DESCRIPTION:Wednesdays:  Our Bar opens at 4pm with the Restaurant opening at 5pm.   (Hours will be extended as needed) \nThursdays:  Our Bar opens at 4pm with the Restaurant opening at 5pm.   (Hours will be extended as needed) \nThursdays: Catch the Ace Lottery returns in September \nOver $3000 was won at the The Slovak Legion “Catch The Ace Progressive Draw” on Thursday June 9\, 2022 when our lucky Progressive winner chose the package with the ACE. \n\nWe will be back in September to continue the Slovak Legion “Catch the Ace Lottery” every Thursday until we have another lucky winner. This will allow our wonderful volunteers to have a summer break and we thank them and all of our “Catch the Ace” supporters. We could not continue this great fundraiser for our leaking roof without your support. Thank you very much. \n\nFriday Closed Canada Day July 1 \nSaturdays :  Our Bar opens at 4pm with the Restaurant opening at 5pm. (Hours will be extended as needed)
URL:https://slovaklegion.com/event/bar-restaurant-hours-menu-12/
LOCATION:The Slovak Legion\, 801 Atlantic Ave\, Thunder Bay\, Ontario\, P7C 2T3\, Canada
CATEGORIES:Public
END:VEVENT
BEGIN:VEVENT
DTSTART;TZID=UTC:20220624T113000
DTEND;TZID=UTC:20220624T130000
DTSTAMP:20260422T033013
CREATED:20220621T022201Z
LAST-MODIFIED:20220621T022201Z
UID:18699-1656070200-1656075600@slovaklegion.com
SUMMARY:Slovak Legion Lunch Buffet 11:30am to 1:30pm
DESCRIPTION:On behalf of the Royal Canadian Slovak Legion Branch#129\, we are pleased to welcome our Patrons back for our famous Lunch Buffet  Fridays  from 11:30am to 1:30pm  Includes dessert and pop/coffee/tea.  Our bar will open at 11:30 a.m. and our restaurant\nwill open at 5:00 p.m.
URL:https://slovaklegion.com/event/slovak-legion-lunch-buffet-1130am-to-130pm-23/
LOCATION:The Slovak Legion\, 801 Atlantic Ave\, Thunder Bay\, Ontario\, P7C 2T3\, Canada
CATEGORIES:Public
END:VEVENT
END:VCALENDAR