BEGIN:VCALENDAR
VERSION:2.0
PRODID:-//Royal Canadian Slovak Legion Branch #129 - ECPv5.15.0//NONSGML v1.0//EN
CALSCALE:GREGORIAN
METHOD:PUBLISH
X-WR-CALNAME:Royal Canadian Slovak Legion Branch #129
X-ORIGINAL-URL:https://slovaklegion.com
X-WR-CALDESC:Events for Royal Canadian Slovak Legion Branch #129
BEGIN:VTIMEZONE
TZID:UTC
BEGIN:STANDARD
TZOFFSETFROM:+0000
TZOFFSETTO:+0000
TZNAME:UTC
DTSTART:20220101T000000
END:STANDARD
END:VTIMEZONE
BEGIN:VEVENT
DTSTART;TZID=UTC:20220419T193000
DTEND;TZID=UTC:20220419T210000
DTSTAMP:20260422T083533
CREATED:20220416T233237Z
LAST-MODIFIED:20220416T233237Z
UID:18568-1650396600-1650402000@slovaklegion.com
SUMMARY:Slovak Legion General Membership Meeting Tues April 19 7:30pm
DESCRIPTION:Slovak Legion General Membership Meeting Tuesday April 19\, 2022 at 7:30 p.m.  All members please attend.
URL:https://slovaklegion.com/event/slovak-legion-general-membership-meeting-tues-april-19-730pm/
LOCATION:The Slovak Legion\, 801 Atlantic Ave\, Thunder Bay\, Ontario\, P7C 2T3\, Canada
CATEGORIES:Public
END:VEVENT
END:VCALENDAR