BEGIN:VCALENDAR
VERSION:2.0
PRODID:-//Royal Canadian Slovak Legion Branch #129 - ECPv5.15.0//NONSGML v1.0//EN
CALSCALE:GREGORIAN
METHOD:PUBLISH
X-WR-CALNAME:Royal Canadian Slovak Legion Branch #129
X-ORIGINAL-URL:https://slovaklegion.com
X-WR-CALDESC:Events for Royal Canadian Slovak Legion Branch #129
BEGIN:VTIMEZONE
TZID:UTC
BEGIN:STANDARD
TZOFFSETFROM:+0000
TZOFFSETTO:+0000
TZNAME:UTC
DTSTART:20220101T000000
END:STANDARD
END:VTIMEZONE
BEGIN:VEVENT
DTSTART;TZID=UTC:20220413T160000
DTEND;TZID=UTC:20220416T210000
DTSTAMP:20260422T071005
CREATED:20220408T214949Z
LAST-MODIFIED:20220408T215457Z
UID:18552-1649865600-1650142800@slovaklegion.com
SUMMARY:Easter Week Action and Hours at the Slovak Legion Bar & Restaurant
DESCRIPTION:The Slovak Legion will be open on Good Friday April 15 for Good Friday Fish Dinner Takeout from 2pm to 6pm.\nOur Slovak Legion Bar & Restaurant will be open regular hours Wednesday\, Thursday & Saturday but on Good Friday April 15 we will just be open from 2pm to 6pm for our Good Friday Fish Dinner Takeout from 12 to 5pm\n\nHappy Easter to all from the Slovak Legion.
URL:https://slovaklegion.com/event/easter-week-action-and-hours-at-the-slovak-legion-bar-restaurant/
LOCATION:The Slovak Legion\, 801 Atlantic Ave\, Thunder Bay\, Ontario\, P7C 2T3\, Canada
CATEGORIES:Public
END:VEVENT
BEGIN:VEVENT
DTSTART;TZID=UTC:20220415T140000
DTEND;TZID=UTC:20220415T180000
DTSTAMP:20260422T071005
CREATED:20220404T191833Z
LAST-MODIFIED:20220404T191833Z
UID:18533-1650031200-1650045600@slovaklegion.com
SUMMARY:Slovak Legion Good Friday Fish Dinner Takeout
DESCRIPTION:
URL:https://slovaklegion.com/event/slovak-legion-good-friday-fish-dinner-takeout/
LOCATION:The Slovak Legion\, 801 Atlantic Ave\, Thunder Bay\, Ontario\, P7C 2T3\, Canada
CATEGORIES:Public
END:VEVENT
BEGIN:VEVENT
DTSTART;TZID=UTC:20220415T140000
DTEND;TZID=UTC:20220415T180000
DTSTAMP:20260422T071005
CREATED:20220415T194642Z
LAST-MODIFIED:20220415T194746Z
UID:18564-1650031200-1650045600@slovaklegion.com
SUMMARY:Photo of 1-Piece Haddock Fish Dinner available TODAY -Slovak Legion Good Friday Takeout 2pm to 6pm
DESCRIPTION:  \n\nSlovak Legion Good Friday Fish Dinner Takeout going on today Friday April 15 from 2pm to 6pm. Come on down.\n\n\nHere is the 1-Piece Haddock Dinner fresh and ready to go from the Slovak Legion kitchen $20
URL:https://slovaklegion.com/event/haddock-fish-dinner-available-today-slovak-legion-good-friday-takeout-2pm-to-6pm/
LOCATION:The Slovak Legion\, 801 Atlantic Ave\, Thunder Bay\, Ontario\, P7C 2T3\, Canada
CATEGORIES:Public
END:VEVENT
END:VCALENDAR