BEGIN:VCALENDAR
VERSION:2.0
PRODID:-//Royal Canadian Slovak Legion Branch #129 - ECPv5.15.0//NONSGML v1.0//EN
CALSCALE:GREGORIAN
METHOD:PUBLISH
X-WR-CALNAME:Royal Canadian Slovak Legion Branch #129
X-ORIGINAL-URL:https://slovaklegion.com
X-WR-CALDESC:Events for Royal Canadian Slovak Legion Branch #129
BEGIN:VTIMEZONE
TZID:UTC
BEGIN:STANDARD
TZOFFSETFROM:+0000
TZOFFSETTO:+0000
TZNAME:UTC
DTSTART:20220101T000000
END:STANDARD
END:VTIMEZONE
BEGIN:VEVENT
DTSTART;TZID=UTC:20220413T160000
DTEND;TZID=UTC:20220416T210000
DTSTAMP:20260422T070653
CREATED:20220408T214949Z
LAST-MODIFIED:20220408T215457Z
UID:18552-1649865600-1650142800@slovaklegion.com
SUMMARY:Easter Week Action and Hours at the Slovak Legion Bar & Restaurant
DESCRIPTION:The Slovak Legion will be open on Good Friday April 15 for Good Friday Fish Dinner Takeout from 2pm to 6pm.\nOur Slovak Legion Bar & Restaurant will be open regular hours Wednesday\, Thursday & Saturday but on Good Friday April 15 we will just be open from 2pm to 6pm for our Good Friday Fish Dinner Takeout from 12 to 5pm\n\nHappy Easter to all from the Slovak Legion.
URL:https://slovaklegion.com/event/easter-week-action-and-hours-at-the-slovak-legion-bar-restaurant/
LOCATION:The Slovak Legion\, 801 Atlantic Ave\, Thunder Bay\, Ontario\, P7C 2T3\, Canada
CATEGORIES:Public
END:VEVENT
BEGIN:VEVENT
DTSTART;TZID=UTC:20220414T090000
DTEND;TZID=UTC:20220414T130000
DTSTAMP:20260422T070653
CREATED:20220407T204302Z
LAST-MODIFIED:20220407T204416Z
UID:18547-1649926800-1649941200@slovaklegion.com
SUMMARY:Slovak Legion Easter Cabbage Roll and Perogies Order PICKUP DATE April 14 9am TO 1pm
DESCRIPTION:The Slovak Legion Branch#129 Easter Cabbage Roll and Perogie Orders Pickup Date and Time. \nPickup date is Thursday April 14\, 2022 from 9am to 1pm. Pick up at the Slovak Legion at 801 Atlantic Avenue…just over the Bridge. \nFor more information please phone 623-3354 Ext. 1 or 2 between 9am and noon Monday to Friday. \nSlovak Cabbage Rolls with Meat $13 a dozen and Perogies $7 a dozen.
URL:https://slovaklegion.com/event/slovak-legion-easter-cabbage-roll-and-perogies-order-pickup-date-april-14-9am-to-1pm/
LOCATION:The Slovak Legion\, 801 Atlantic Ave\, Thunder Bay\, Ontario\, P7C 2T3\, Canada
CATEGORIES:Public
END:VEVENT
BEGIN:VEVENT
DTSTART;TZID=UTC:20220414T180000
DTEND;TZID=UTC:20220414T210000
DTSTAMP:20260422T070653
CREATED:20220407T204705Z
LAST-MODIFIED:20220414T165118Z
UID:18549-1649959200-1649970000@slovaklegion.com
SUMMARY:Slovak Legion Catch the Ace Lottery on Thursdays Progressive $1743
DESCRIPTION:  \n\nWith the new Ontario  Covid Guidelines in place\, we are able to resume our “Catch the Ace” Draw. The Slovak Legion Catch The Ace Progressive Draw continues in the Bar with its Progressive Jackpot for Thursday April 14\, 2022. Ticket sales from 6:00 p.m. to 8:00 p.m. and draw is at 8:30 p.m. Food will be available. Licence M835620. A 50/50 Draw will also be held every Thursday Licence Number M835598. Hope to see you out!\n\n\n\nProgressive $1743\n\nEnjoy Supper at the Bar as well!
URL:https://slovaklegion.com/event/slovak-legion-catch-the-ace-lottery-on-thursdays-2/
LOCATION:The Slovak Legion\, 801 Atlantic Ave\, Thunder Bay\, Ontario\, P7C 2T3\, Canada
CATEGORIES:Public
END:VEVENT
END:VCALENDAR