BEGIN:VCALENDAR
VERSION:2.0
PRODID:-//Royal Canadian Slovak Legion Branch #129 - ECPv5.15.0//NONSGML v1.0//EN
CALSCALE:GREGORIAN
METHOD:PUBLISH
X-WR-CALNAME:Royal Canadian Slovak Legion Branch #129
X-ORIGINAL-URL:https://slovaklegion.com
X-WR-CALDESC:Events for Royal Canadian Slovak Legion Branch #129
BEGIN:VTIMEZONE
TZID:UTC
BEGIN:STANDARD
TZOFFSETFROM:+0000
TZOFFSETTO:+0000
TZNAME:UTC
DTSTART:20220101T000000
END:STANDARD
END:VTIMEZONE
BEGIN:VEVENT
DTSTART;TZID=UTC:20220327T090000
DTEND;TZID=UTC:20220407T120000
DTSTAMP:20260422T071235
CREATED:20210301T172521Z
LAST-MODIFIED:20220330T205204Z
UID:17708-1648371600-1649332800@slovaklegion.com
SUMMARY:Slovak Legion Easter Cabbage Rolls/Perogie Orders
DESCRIPTION:The Slovak Legion Branch#129 is now accepting Easter Cabbage Roll and Perogie Orders.  Perfect for Easter Celebrations or just great food to share. \nLast date for ordering is April 7\, 2022.  For more information or to place your order\, please phone 623-3354 Ext. 1 or 2 between 9am and noon Monday to Friday. \n Slovak Cabbage Rolls with Meat $13 a dozen and Perogies $7 a dozen. \nPickup date is Thursday April 14\, 2022 9am to 1pm.  Pick up at the Slovak Legion at 801 Atlantic Avenue…just over the Bridge.
URL:https://slovaklegion.com/event/slovak-legion-easter-cabbage-rolls-perogie-orders-3/
LOCATION:The Slovak Legion\, 801 Atlantic Ave\, Thunder Bay\, Ontario\, P7C 2T3\, Canada
CATEGORIES:Public
END:VEVENT
BEGIN:VEVENT
DTSTART;TZID=UTC:20220330T040000
DTEND;TZID=UTC:20220402T210000
DTSTAMP:20260422T071235
CREATED:20220327T202951Z
LAST-MODIFIED:20220327T203026Z
UID:18518-1648612800-1648933200@slovaklegion.com
SUMMARY:Bar & Restaurant Hours & Menu
DESCRIPTION:Wednesdays:  Our Bar opens at 4pm with the Restaurant opening at 5pm.   (Hours will be extended as needed) \nThursdays:  Our Bar opens at 4pm with the Restaurant opening at 5pm.   (Hours will be extended as needed) \nThursdays:  The Slovak Legion “Catch the Ace Lottery” returns from 6pm to 9pm with a 50/50 Draw as well.  Enjoy supper from our Restaurant. \nFridays 11:30am to 1:30pm:  Our famous “Slovak Legion Lunch Buffet” returns with our favourites just for you with Bar. The Bar also remains open for the rest of the day for socializing.  The Slovak Restaurant opens at 5pm on Friday. (Hours will be extended as needed) \nSaturdays :  Our Bar opens at 4pm with the Restaurant opening at 5pm. (Hours will be extended as needed)
URL:https://slovaklegion.com/event/bar-restaurant-hours-menu-2/
LOCATION:The Slovak Legion\, 801 Atlantic Ave\, Thunder Bay\, Ontario\, P7C 2T3\, Canada
CATEGORIES:Public
END:VEVENT
BEGIN:VEVENT
DTSTART;TZID=UTC:20220331T180000
DTEND;TZID=UTC:20220331T210000
DTSTAMP:20260422T071235
CREATED:20220327T203355Z
LAST-MODIFIED:20220327T203355Z
UID:18522-1648749600-1648760400@slovaklegion.com
SUMMARY:Slovak Legion Catch the Ace Lottery Thursdays
DESCRIPTION:With the new Ontario  Covid Guidelines in place\, we are able to resume our “Catch the Ace” Draw. The Slovak Legion Catch The Ace Progressive Draw continues in the Bar with its Progressive Jackpot for Thursday March 3\, 2022. Ticket sales from 6:00 p.m. to 8:00 p.m. and draw is at 8:30 p.m. Food will be available. Licence M835620. A 50/50 Draw will also be held every Thursday Licence Number M835598. Hope to see you out!\n\n\n\nProgressive will be over $1000.\n\nEnjoy Supper at the Bar as well!\n\n 
URL:https://slovaklegion.com/event/slovak-legion-catch-the-ace-lottery-thursdays-10/
LOCATION:The Slovak Legion\, 801 Atlantic Ave\, Thunder Bay\, Ontario\, P7C 2T3\, Canada
CATEGORIES:Public
END:VEVENT
END:VCALENDAR