BEGIN:VCALENDAR
VERSION:2.0
PRODID:-//Royal Canadian Slovak Legion Branch #129 - ECPv5.15.0//NONSGML v1.0//EN
CALSCALE:GREGORIAN
METHOD:PUBLISH
X-WR-CALNAME:Royal Canadian Slovak Legion Branch #129
X-ORIGINAL-URL:https://slovaklegion.com
X-WR-CALDESC:Events for Royal Canadian Slovak Legion Branch #129
BEGIN:VTIMEZONE
TZID:UTC
BEGIN:STANDARD
TZOFFSETFROM:+0000
TZOFFSETTO:+0000
TZNAME:UTC
DTSTART:20220101T000000
END:STANDARD
END:VTIMEZONE
BEGIN:VEVENT
DTSTART;TZID=UTC:20220223T160000
DTEND;TZID=UTC:20220226T210000
DTSTAMP:20260422T095736
CREATED:20220208T202229Z
LAST-MODIFIED:20220208T203323Z
UID:18401-1645632000-1645909200@slovaklegion.com
SUMMARY:Bar & Restaurant Hours
DESCRIPTION:Wednesdays:  Our Bar opens at 4pm with the Restaurant opening at 5pm.   (Hours will be extended as needed) \nThursdays:  Our Bar opens at 4pm with the Restaurant opening at 5pm.   (Hours will be extended as needed) \nThursdays:  The Slovak Legion “Catch the Ace Lottery” returns from 6pm to 9pm with a 50/50 Draw as well.  Enjoy supper from our Restaurant. \nFridays 11:30am to 1:30pm:  Our famous “Slovak Legion Lunch Buffet” returns with our favourites just for you with Bar. The Bar also remains open for the rest of the day for socializing.  The Slovak Restaurant opens at 5pm on Friday. (Hours will be extended as needed) \nSaturdays :  Our Bar opens at 4pm with the Restaurant opening at 5pm. (Hours will be extended as needed) \nThe Slovak Legion is happy to welcome more of our supporters back.  We have missed you!\nPlease bring proof of COVID Vaccinations.
URL:https://slovaklegion.com/event/bar-restaurant-hours-3/
LOCATION:The Slovak Legion\, 801 Atlantic Ave\, Thunder Bay\, Ontario\, P7C 2T3\, Canada
CATEGORIES:Public
END:VEVENT
BEGIN:VEVENT
DTSTART;TZID=UTC:20220224T080000
DTEND;TZID=UTC:20220224T170000
DTSTAMP:20260422T095736
CREATED:20220208T202945Z
LAST-MODIFIED:20220212T215009Z
UID:18408-1645689600-1645722000@slovaklegion.com
SUMMARY:Slovak Legion Catch the Ace Lottery Thursdays
DESCRIPTION:With the new Ontario Stage 3 Covid Guidelines in place\, we are able to resume our “Catch the Ace” Draw. The Slovak Legion Catch The Ace Progressive Draw continues in the Bar with its Progressive Jackpot and continues every Thursday. Ticket sales from 6:00 p.m. to 8:00 p.m. and draw is at 8:30 p.m. Food will be available. Licence M835620. A 50/50 Draw will also be held every Thursday Licence Number M835598. Hope to see you out! \nEnjoy Supper at the Bar as well! \nYou must provide proof of full vaccination with QR code and valid I.D.\nenter.
URL:https://slovaklegion.com/event/slovak-legion-catch-the-ace-lottery-thursdays-7/
LOCATION:The Slovak Legion\, 801 Atlantic Ave\, Thunder Bay\, Ontario\, P7C 2T3\, Canada
CATEGORIES:Public
END:VEVENT
END:VCALENDAR