BEGIN:VCALENDAR
VERSION:2.0
PRODID:-//Royal Canadian Slovak Legion Branch #129 - ECPv5.15.0//NONSGML v1.0//EN
CALSCALE:GREGORIAN
METHOD:PUBLISH
X-WR-CALNAME:Royal Canadian Slovak Legion Branch #129
X-ORIGINAL-URL:https://slovaklegion.com
X-WR-CALDESC:Events for Royal Canadian Slovak Legion Branch #129
BEGIN:VTIMEZONE
TZID:UTC
BEGIN:STANDARD
TZOFFSETFROM:+0000
TZOFFSETTO:+0000
TZNAME:UTC
DTSTART:20220101T000000
END:STANDARD
END:VTIMEZONE
BEGIN:VEVENT
DTSTART;TZID=UTC:20220216T160000
DTEND;TZID=UTC:20220219T210000
DTSTAMP:20260422T101044
CREATED:20220208T202024Z
LAST-MODIFIED:20220208T202024Z
UID:18399-1645027200-1645304400@slovaklegion.com
SUMMARY:Bar & Restaurant Hours
DESCRIPTION:Wednesdays:  Our Bar opens at 4pm with the Restaurant opening at 5pm.   (Hours will be extended as needed) \nThursdays:  Our Bar opens at 4pm with the Restaurant opening at 5pm.   (Hours will be extended as needed) \nThursdays:  The Slovak Legion “Catch the Ace Lottery” returns from 6pm to 9pm with a 50/50 Draw as well.  Enjoy supper from our Restaurant. \nFridays 11:30am to 1:30pm:  Our famous “Slovak Legion Lunch Buffet” returns with our favourites just for you with Bar. The Bar also remains open for the rest of the day for socializing.  The Slovak Restaurant opens at 5pm on Friday. (Hours will be extended as needed) \nSaturdays :  Our Bar opens at 4pm with the Restaurant opening at 5pm. (Hours will be extended as needed) \nThe Slovak Legion is happy to welcome more of our supporters back.  We have missed you!\nPlease bring proof of COVID Vaccinations.
URL:https://slovaklegion.com/event/bar-restaurant-hours-2/
LOCATION:The Slovak Legion\, 801 Atlantic Ave\, Thunder Bay\, Ontario\, P7C 2T3\, Canada
CATEGORIES:Public
END:VEVENT
BEGIN:VEVENT
DTSTART;TZID=UTC:20220218T113000
DTEND;TZID=UTC:20220218T133000
DTSTAMP:20260422T101044
CREATED:20220208T203231Z
LAST-MODIFIED:20220212T214559Z
UID:18412-1645183800-1645191000@slovaklegion.com
SUMMARY:Slovak Legion Lunch Buffet 11:30am to 1:30pm
DESCRIPTION:On behalf of the Royal Canadian Slovak Legion Branch#129\, we are pleased to welcome our Patrons back for our famous Lunch Buffet  Fridays  from 11:30am to 1:30pm  Includes dessert and pop/coffee/tea.  Our bar will open at 11:30 a.m. and our restaurant\nwill open at 5:00 p.m. \nYou must provide proof of full vaccination with\nQR code and valid I.D. to enter. \n 
URL:https://slovaklegion.com/event/slovak-legion-lunch-buffet-1130am-to-130pm-8/
LOCATION:The Slovak Legion\, 801 Atlantic Ave\, Thunder Bay\, Ontario\, P7C 2T3\, Canada
CATEGORIES:Public
END:VEVENT
END:VCALENDAR