BEGIN:VCALENDAR
VERSION:2.0
PRODID:-//Royal Canadian Slovak Legion Branch #129 - ECPv5.15.0//NONSGML v1.0//EN
CALSCALE:GREGORIAN
METHOD:PUBLISH
X-WR-CALNAME:Royal Canadian Slovak Legion Branch #129
X-ORIGINAL-URL:https://slovaklegion.com
X-WR-CALDESC:Events for Royal Canadian Slovak Legion Branch #129
BEGIN:VTIMEZONE
TZID:UTC
BEGIN:STANDARD
TZOFFSETFROM:+0000
TZOFFSETTO:+0000
TZNAME:UTC
DTSTART:20210101T000000
END:STANDARD
END:VTIMEZONE
BEGIN:VEVENT
DTSTART;TZID=UTC:20211231T180000
DTEND;TZID=UTC:20220101T010000
DTSTAMP:20260422T113626
CREATED:20181030T032508Z
LAST-MODIFIED:20211221T203428Z
UID:12281-1640973600-1640998800@slovaklegion.com
SUMMARY:New Year’s Eve Gala CANCELLED due to new Ontario restrictions
DESCRIPTION:  \nCANCELLED Due to New Ontario COVID Regulations.\n \n  \nSlovak Legion New Year’s Eve Gala at the Slovak Legion with our LIVE Band\, “21 Gun Fun”. Bring in the New Year with this HOT Band. \nEnjoy a superb dinner\, party favours\, and midnight snack. \nSymposium 6pm.  Dinner 7pm \nMusic by Danny Johnson with 21 Gun Fun.  Tickets are $75.00 per person. \nPlease phone 623-3354 Ext. 1 or 2\, Monday to Friday before noon for more information. \nYou must provide proof of full vaccinations and valid I.D. to attend this event. \n“21 Gun Fun” is ready to rock New Year’s Eve at the Slovak. \nWe look forward to celebrating in 2023 when hopefully conditions are SAFER.   \nThe Slovak Legion. \n  \n 
URL:https://slovaklegion.com/event/new-years-eve-gala-with-live-band-21-gun-fun-2/
LOCATION:The Slovak Legion\, 801 Atlantic Ave\, Thunder Bay\, Ontario\, P7C 2T3\, Canada
CATEGORIES:Public
END:VEVENT
END:VCALENDAR