BEGIN:VCALENDAR
VERSION:2.0
PRODID:-//Royal Canadian Slovak Legion Branch #129 - ECPv5.15.0//NONSGML v1.0//EN
CALSCALE:GREGORIAN
METHOD:PUBLISH
X-WR-CALNAME:Royal Canadian Slovak Legion Branch #129
X-ORIGINAL-URL:https://slovaklegion.com
X-WR-CALDESC:Events for Royal Canadian Slovak Legion Branch #129
BEGIN:VTIMEZONE
TZID:UTC
BEGIN:STANDARD
TZOFFSETFROM:+0000
TZOFFSETTO:+0000
TZNAME:UTC
DTSTART:20210101T000000
END:STANDARD
END:VTIMEZONE
BEGIN:VEVENT
DTSTART;TZID=UTC:20211202T113000
DTEND;TZID=UTC:20211203T133000
DTSTAMP:20260422T125139
CREATED:20211201T161749Z
LAST-MODIFIED:20211201T165421Z
UID:18254-1638444600-1638538200@slovaklegion.com
SUMMARY:Slovak Legion Lunch Buffet 11:30 to 1:30pm
DESCRIPTION:On behalf of the Royal Canadian Slovak Legion Branch#129\, we are pleased to welcome our Patrons back for our famous Lunch Buffet Thursdays and Fridays from 11:30am to 1:30pm with Bar.  \nThe Bar also remains open for the rest of the day for socializing.  The Slovak Restaurant opens at 5pm. (following Ontario Stage 3 Guidelines). \nPlease bring proof of COVID Vaccinations.
URL:https://slovaklegion.com/event/slovak-legion-lunch-buffet-1130-to-130pm-2/
LOCATION:The Slovak Legion\, 801 Atlantic Ave\, Thunder Bay\, Ontario\, P7C 2T3\, Canada
CATEGORIES:Public
END:VEVENT
BEGIN:VEVENT
DTSTART;TZID=UTC:20211202T180000
DTEND;TZID=UTC:20211202T210000
DTSTAMP:20260422T125139
CREATED:20211201T180123Z
LAST-MODIFIED:20211201T180534Z
UID:18276-1638468000-1638478800@slovaklegion.com
SUMMARY:Slovak Legion Catch the Ace Draw Thursday Dec 2
DESCRIPTION:Slovak Legion “CATCH THE ACE” Draw Thursday December 2\n\n\n(Our Bar is open to serve your food as well.)\n\n\n\n\n\n\nWith the new Ontario Stage 3 Covid Guidelines in place\, we are able to resume our “Catch the Ace” Draw. The Slovak Legion Catch The Ace Progressive Draw continues in the Bar with its Progressive Jackpot Thursday December 2. Ticket sales from 6:00 p.m. to 8:00 p.m. and draw is at 8:30 p.m. Food will be available. Licence M835620. A 50/50 Draw will also be held every Thursday Licence Number M835598. Hope to see you out!
URL:https://slovaklegion.com/event/slovak-legion-catch-the-ace-draw-thursday-dec-2/
LOCATION:The Slovak Legion\, 801 Atlantic Ave\, Thunder Bay\, Ontario\, P7C 2T3\, Canada
CATEGORIES:Public
END:VEVENT
END:VCALENDAR