BEGIN:VCALENDAR
VERSION:2.0
PRODID:-//Royal Canadian Slovak Legion Branch #129 - ECPv5.15.0//NONSGML v1.0//EN
CALSCALE:GREGORIAN
METHOD:PUBLISH
X-WR-CALNAME:Royal Canadian Slovak Legion Branch #129
X-ORIGINAL-URL:https://slovaklegion.com
X-WR-CALDESC:Events for Royal Canadian Slovak Legion Branch #129
BEGIN:VTIMEZONE
TZID:UTC
BEGIN:STANDARD
TZOFFSETFROM:+0000
TZOFFSETTO:+0000
TZNAME:UTC
DTSTART:20210101T000000
END:STANDARD
END:VTIMEZONE
BEGIN:VEVENT
DTSTART;TZID=UTC:20211105T090000
DTEND;TZID=UTC:20211111T160000
DTSTAMP:20260422T141058
CREATED:20190930T192946Z
LAST-MODIFIED:20211108T175905Z
UID:15466-1636102800-1636646400@slovaklegion.com
SUMMARY:Christmas Dinner & Dance Parties Dec 3\, Dec 10-11\, Dec 17-18 Book today!
DESCRIPTION:
URL:https://slovaklegion.com/event/christmas-dinner-dance-parties-dec-7-dec-13-14-dec-20-21-book-today/2021-11-05/
LOCATION:The Slovak Legion\, 801 Atlantic Ave\, Thunder Bay\, Ontario\, P7C 2T3\, Canada
CATEGORIES:Public
END:VEVENT
BEGIN:VEVENT
DTSTART;TZID=UTC:20211107T120000
DTEND;TZID=UTC:20211107T170000
DTSTAMP:20260422T141058
CREATED:20211102T033459Z
LAST-MODIFIED:20211102T033459Z
UID:18184-1636286400-1636304400@slovaklegion.com
SUMMARY:Slovak Legion Chicken Parmesan Dinner Takeout Nov 7
DESCRIPTION:Slovak Legion Chicken Parmesan Dinner\nTAKEOUT or *Curbside Pickup\nSunday November 7\, 2021 12pm to 5pm\n\n\n\nTake Out MENU\nChicken Parmesan\nPenne Pasta\nCaesar Salad\nGarlic Toast\n$18.50 tax included\n\n\n\nAlso for Sale\nPerogies $6 a dozen\n\n\n\nWhile supplies last\nHomemade Cheesecake or Apple Pie $4\n\n\n\nTakeout: Please enter by Bar Door\, Cash\, Debit\, and Credit Card payment accepted. Social Distancing enforced. Leave by Solarium Door. Thank you.\n\n\n\nWe are here for our community and thank everyone who comes out to support us while enjoying some great food. We practise Social Distancing and thank you in advance. We appreciate your support.\n\n\n\nSlovak Legion 623-3354 Ext 1 or 2\n801 Atlantic Avenue Thunder Bay\n\n\nJust over the Pacific bridge to your left or use the Main Street Bridge.\n\n\n\nAlternative Directions to the Slovak Legion 801 Atlantic Avenue using Main Street Bridge\n1 Go to the corner of the Harbour Expressway and Fort William Road and proceed down Main Street over the Main Street Bridge.\n2 Go to the end and turn turn right onto 110th Ave/Island Dr.\n3 Watch for the Slovak Legion sign and turn. Your delicious Takeout is waiting for you.
URL:https://slovaklegion.com/event/slovak-legion-chicken-parmesan-dinner-takeout-nov-7/
LOCATION:The Slovak Legion\, 801 Atlantic Ave\, Thunder Bay\, Ontario\, P7C 2T3\, Canada
CATEGORIES:Public
END:VEVENT
END:VCALENDAR