BEGIN:VCALENDAR
VERSION:2.0
PRODID:-//Royal Canadian Slovak Legion Branch #129 - ECPv5.15.0//NONSGML v1.0//EN
CALSCALE:GREGORIAN
METHOD:PUBLISH
X-WR-CALNAME:Royal Canadian Slovak Legion Branch #129
X-ORIGINAL-URL:https://slovaklegion.com
X-WR-CALDESC:Events for Royal Canadian Slovak Legion Branch #129
BEGIN:VTIMEZONE
TZID:UTC
BEGIN:STANDARD
TZOFFSETFROM:+0000
TZOFFSETTO:+0000
TZNAME:UTC
DTSTART:20210101T000000
END:STANDARD
END:VTIMEZONE
BEGIN:VEVENT
DTSTART;TZID=UTC:20211020T160000
DTEND;TZID=UTC:20211021T210000
DTSTAMP:20260422T154000
CREATED:20211021T165848Z
LAST-MODIFIED:20211021T165948Z
UID:18148-1634745600-1634850000@slovaklegion.com
SUMMARY:The Slovak Legion has REOPENED
DESCRIPTION:Wednesdays:  Our Bar opens at 4pm with the Restaurant opening at 5pm.   (Hours will be extended as needed) \nThursdays:  Our Bar opens at 4pm with the Restaurant opening at 5pm.   (Hours will be extended as needed) \nFridays 11:30am to 1:30pm:  Our famous “Slovak Legion Lunch Buffet” returns with our favourites just for you with Bar. The Bar also remains open for the rest of the day for socializing.  The Slovak Restaurant opens at 5pm on Friday. (Hours will be extended as needed) \nSaturdays :  Our Bar opens at 4pm with the Restaurant opening at 5pm. (Hours will be extended as needed) \nThe Slovak Legion is happy to welcome more of our supporters back.  We have missed you!\nPlease bring proof of COVID Vaccinations.
URL:https://slovaklegion.com/event/the-slovak-legion-has-reopened-14/
LOCATION:The Slovak Legion\, 801 Atlantic Ave\, Thunder Bay\, Ontario\, P7C 2T3\, Canada
CATEGORIES:Public
END:VEVENT
BEGIN:VEVENT
DTSTART;TZID=UTC:20211021T180000
DTEND;TZID=UTC:20211021T210000
DTSTAMP:20260422T154000
CREATED:20211021T165559Z
LAST-MODIFIED:20211022T021632Z
UID:18145-1634839200-1634850000@slovaklegion.com
SUMMARY:Slovak Legion "Catch the Ace Lottery" Thursdays
DESCRIPTION:Slovak Legion “CATCH THE ACE” Draw Thursday October 21 \n\n\n(Our Bar is open to serve your food as well.)\n\n\nWith the new Ontario Stage 3 Covid Guidelines in place\, we are able to resume our “Catch the Ace” Draw. The Slovak Legion Catch The Ace Progressive Draw continues in the Bar with its Progressive Jackpot Thursday October 21. Ticket sales from 6:00 p.m. to 8:00 p.m. and draw is at 8:30 p.m. Food will be available. Licence M835620. A 50/50 Draw will also be held every Thursday Licence Number M835598. Hope to see you out!
URL:https://slovaklegion.com/event/slovak-legion-catch-the-ace-lottery-thursdays-4/
LOCATION:The Slovak Legion\, 801 Atlantic Ave\, Thunder Bay\, Ontario\, P7C 2T3\, Canada
CATEGORIES:Public
END:VEVENT
END:VCALENDAR