BEGIN:VCALENDAR
VERSION:2.0
PRODID:-//Royal Canadian Slovak Legion Branch #129 - ECPv5.15.0//NONSGML v1.0//EN
CALSCALE:GREGORIAN
METHOD:PUBLISH
X-WR-CALNAME:Royal Canadian Slovak Legion Branch #129
X-ORIGINAL-URL:https://slovaklegion.com
X-WR-CALDESC:Events for Royal Canadian Slovak Legion Branch #129
BEGIN:VTIMEZONE
TZID:UTC
BEGIN:STANDARD
TZOFFSETFROM:+0000
TZOFFSETTO:+0000
TZNAME:UTC
DTSTART:20210101T000000
END:STANDARD
END:VTIMEZONE
BEGIN:VEVENT
DTSTART;TZID=UTC:20211008T090000
DTEND;TZID=UTC:20211008T130000
DTSTAMP:20260422T153959
CREATED:20200306T203209Z
LAST-MODIFIED:20211004T200229Z
UID:16104-1633683600-1633698000@slovaklegion.com
SUMMARY:Thanksgiving Cabbage Roll and Perogie Orders Pickup Information
DESCRIPTION:Thanksgiving Cabbage Roll & Perogie Orders Pickup  \nPick up date is Friday October 8\, 2021 between 9am and 1pm at the Slovak Legion at 801 Atlantic Avenue…just over the Bridge.  For more information please phone 623-3354 Ext. 1 or 2 between 9am and noon Monday to Friday. \nWe greatly appreciate your support.
URL:https://slovaklegion.com/event/easter-cabbage-roll-and-perogie-orders-pickup-information/
LOCATION:The Slovak Legion\, 801 Atlantic Ave\, Thunder Bay\, Ontario\, P7C 2T3\, Canada
CATEGORIES:Public
END:VEVENT
BEGIN:VEVENT
DTSTART;TZID=UTC:20211008T113000
DTEND;TZID=UTC:20211008T210000
DTSTAMP:20260422T153959
CREATED:20211004T200953Z
LAST-MODIFIED:20211004T203052Z
UID:18095-1633692600-1633726800@slovaklegion.com
SUMMARY:Slovak Legion Lunch Buffet 11:30am to 1:30pm
DESCRIPTION:On behalf of the Royal Canadian Slovak Legion Branch#129\, we are pleased to welcome our Patrons back for our famous Lunch Buffet Fridays from 11:30am to 1:30pm with Bar. The Bar also remains open for the rest of the day for socializing.  The Slovak Restaurant opens at 5pm on Friday. (following Ontario Stage 3 Guidelines). \n  \nWe will be ready to bring you the best of the Slovak!  Hope to see you out. \nPlease bring proof of COVID Vaccinations.
URL:https://slovaklegion.com/event/slovak-legion-lunch-buffet-1130am-to-130pm-2/
LOCATION:The Slovak Legion\, 801 Atlantic Ave\, Thunder Bay\, Ontario\, P7C 2T3\, Canada
CATEGORIES:Public
END:VEVENT
BEGIN:VEVENT
DTSTART;TZID=UTC:20211008T160000
DTEND;TZID=UTC:20211008T210000
DTSTAMP:20260422T153959
CREATED:20211004T201246Z
LAST-MODIFIED:20211015T024706Z
UID:18099-1633708800-1633726800@slovaklegion.com
SUMMARY:The Slovak Legion has REOPENED
DESCRIPTION:Wednesdays:  Our Bar opens at 4pm with the Restaurant opening at 5pm.   (Hours will be extended as needed) \nThursdays:  Our Bar opens at 4pm with the Restaurant opening at 5pm.   (Hours will be extended as needed) \nFridays 11:30am to 1:30pm:  Our famous “Slovak Legion Lunch Buffet” returns with our favourites just for you with Bar. The Bar also remains open for the rest of the day for socializing.  The Slovak Restaurant opens at 5pm on Friday. (Hours will be extended as needed) \nSaturdays :  Our Bar opens at 4pm with the Restaurant opening at 5pm. (Hours will be extended as needed) \nThe Slovak Legion is happy to welcome more of our supporters back.  We have missed you!\nPlease bring proof of COVID Vaccinations.
URL:https://slovaklegion.com/event/the-slovak-legion-has-reopened-9/
LOCATION:The Slovak Legion\, 801 Atlantic Ave\, Thunder Bay\, Ontario\, P7C 2T3\, Canada
CATEGORIES:Public
END:VEVENT
END:VCALENDAR