BEGIN:VCALENDAR
VERSION:2.0
PRODID:-//Royal Canadian Slovak Legion Branch #129 - ECPv5.15.0//NONSGML v1.0//EN
CALSCALE:GREGORIAN
METHOD:PUBLISH
X-WR-CALNAME:Royal Canadian Slovak Legion Branch #129
X-ORIGINAL-URL:https://slovaklegion.com
X-WR-CALDESC:Events for Royal Canadian Slovak Legion Branch #129
BEGIN:VTIMEZONE
TZID:UTC
BEGIN:STANDARD
TZOFFSETFROM:+0000
TZOFFSETTO:+0000
TZNAME:UTC
DTSTART:20210101T000000
END:STANDARD
END:VTIMEZONE
BEGIN:VEVENT
DTSTART;TZID=UTC:20210923T160000
DTEND;TZID=UTC:20210923T210000
DTSTAMP:20260422T165737
CREATED:20210923T021314Z
LAST-MODIFIED:20210923T023524Z
UID:18052-1632412800-1632430800@slovaklegion.com
SUMMARY:The Slovak Legion Hall and Bar has REOPENED.  Details here
DESCRIPTION:Thursdays:  Our Bar opens at 4pm with the Restaurant opening at 5pm.   (Hours will be extended as needed) \nFridays 11:30am to 1:30pm:  Our famous “Slovak Legion Lunch Buffet” returns with our favourites just for you with Bar. The Bar also remains open for the rest of the day for socializing.  The Slovak Restaurant opens at 5pm on Friday. (Hours will be extended as needed) \nSaturdays :  Our Bar opens at 4pm with the Restaurant opening at 5pm. (Hours will be extended as needed) \nThe Slovak Legion is happy to welcome more of our supporters back.  We have missed you!\nPlease bring proof of COVID Vaccinations.
URL:https://slovaklegion.com/event/the-slovak-legion-and-bar-have-reopened-details-here-2/2021-09-23/
LOCATION:The Slovak Legion\, 801 Atlantic Ave\, Thunder Bay\, Ontario\, P7C 2T3\, Canada
CATEGORIES:Public
END:VEVENT
BEGIN:VEVENT
DTSTART;TZID=UTC:20210923T180000
DTEND;TZID=UTC:20210923T210000
DTSTAMP:20260422T165737
CREATED:20210923T022418Z
LAST-MODIFIED:20210923T023608Z
UID:18056-1632420000-1632430800@slovaklegion.com
SUMMARY:Slovak Legion "Catch the Ace Lottery" Thursdays
DESCRIPTION:Slovak Legion “CATCH THE ACE” Draw Thursday September 23 Progressive $2223.00\n\n\n(Our Bar is open to serve your food as well.)\n\nWith the new Ontario Current Covid Guidelines in place\, we are able to resume our “Catch the Ace” Draw. The Slovak Legion Catch The Ace Progressive Draw continues in the Bar with its Progressive Jackpot Thursday September 23. Ticket sales from 6:00 p.m. to 8:00 p.m. and draw is at 8:30 p.m. Food will be available. Licence M835456. A 50/50 Draw will also be held every Thursday Licence Number M835598. Hope to see you out!\n\n\nPlease bring proof of Vaccinations to enter.
URL:https://slovaklegion.com/event/slovak-legion-catch-the-ace-lottery-thursdays/
LOCATION:The Slovak Legion\, 801 Atlantic Ave\, Thunder Bay\, Ontario\, P7C 2T3\, Canada
CATEGORIES:Public
END:VEVENT
END:VCALENDAR