BEGIN:VCALENDAR
VERSION:2.0
PRODID:-//Royal Canadian Slovak Legion Branch #129 - ECPv5.15.0//NONSGML v1.0//EN
CALSCALE:GREGORIAN
METHOD:PUBLISH
X-WR-CALNAME:Royal Canadian Slovak Legion Branch #129
X-ORIGINAL-URL:https://slovaklegion.com
X-WR-CALDESC:Events for Royal Canadian Slovak Legion Branch #129
BEGIN:VTIMEZONE
TZID:UTC
BEGIN:STANDARD
TZOFFSETFROM:+0000
TZOFFSETTO:+0000
TZNAME:UTC
DTSTART:20210101T000000
END:STANDARD
END:VTIMEZONE
BEGIN:VEVENT
DTSTART;TZID=UTC:20210916T113000
DTEND;TZID=UTC:20210916T210000
DTSTAMP:20260422T171604
CREATED:20210829T181352Z
LAST-MODIFIED:20210911T001705Z
UID:18023-1631791800-1631826000@slovaklegion.com
SUMMARY:The Slovak Legion and Bar have REOPENED.  Details here.
DESCRIPTION:Thursdays:  Our Bar opens at 4pm with the Restaurant opening at 5pm.   (Hours will be extended as needed) \nFridays 11:30am to 1:30pm:  Our famous “Slovak Legion Lunch Buffet” returns with our favourites just for you with Bar. The Bar also remains open for the rest of the day for socializing.  The Slovak Restaurant opens at 5pm on Friday. (Hours will be extended as needed) \nSaturdays :  Our Bar opens at 4pm with the Restaurant opening at 5pm. (Hours will be extended as needed) \nThe Slovak Legion is happy to welcome more of our supporters back.  We have missed you!
URL:https://slovaklegion.com/event/the-slovak-legion-and-bar-have-reopened-details-here/
LOCATION:The Slovak Legion\, 801 Atlantic Ave\, Thunder Bay\, Ontario\, P7C 2T3\, Canada
CATEGORIES:Public
END:VEVENT
BEGIN:VEVENT
DTSTART;TZID=UTC:20210916T180000
DTEND;TZID=UTC:20210916T210000
DTSTAMP:20260422T171604
CREATED:20201208T164527Z
LAST-MODIFIED:20210911T000430Z
UID:17589-1631815200-1631826000@slovaklegion.com
SUMMARY:"Catch the Ace Lottery" at the Slovak Thursdays
DESCRIPTION:With the new Ontario Stage 3 Covid Guidelines in place\, we are able to resume our “Catch the Ace” Draw.  The Slovak Legion Catch The Ace Progressive Draw continues in the Bar with its Progressive Jackpot at $2085  for Thursday September 16.  Ticket sales from 6:00 p.m. to 8:00 p.m. and draw is at 8:30 p.m.  Food will be available.  Licence M835456.  A 50/50 Draw will also be held every Thursday Licence Number M835598.  Hope to see you out! \nEnjoy Supper at the Bar as well! \n  \nThursday September 16 \nProgressive Jackpot is at $2085
URL:https://slovaklegion.com/event/catch-the-ace-at-the-slovak-thursdays-4/
LOCATION:The Slovak Legion\, 801 Atlantic Ave\, Thunder Bay\, Ontario\, P7C 2T3\, Canada
CATEGORIES:Public
END:VEVENT
END:VCALENDAR