BEGIN:VCALENDAR
VERSION:2.0
PRODID:-//Royal Canadian Slovak Legion Branch #129 - ECPv5.15.0//NONSGML v1.0//EN
CALSCALE:GREGORIAN
METHOD:PUBLISH
X-WR-CALNAME:Royal Canadian Slovak Legion Branch #129
X-ORIGINAL-URL:https://slovaklegion.com
X-WR-CALDESC:Events for Royal Canadian Slovak Legion Branch #129
BEGIN:VTIMEZONE
TZID:UTC
BEGIN:STANDARD
TZOFFSETFROM:+0000
TZOFFSETTO:+0000
TZNAME:UTC
DTSTART:20210101T000000
END:STANDARD
END:VTIMEZONE
BEGIN:VEVENT
DTSTART;TZID=UTC:20210808T080000
DTEND;TZID=UTC:20210811T170000
DTSTAMP:20260422T183757
CREATED:20210808T233522Z
LAST-MODIFIED:20210808T233706Z
UID:17953-1628409600-1628701200@slovaklegion.com
SUMMARY:Thank you to our volunteers and supporters at our FUNdraising BBQ!
DESCRIPTION:What an amazing community! Thank you to everyone who came out to the Slovak Legion FUNdraising BBQ and supported us. The volunteers who give of their time so we can keep our Slovak Legion alive in our community are so much appreciated. Thank you to Chef Carmine Ciccone and his wife Teresa for tempting everyone with the oh so delicious Italian Elephant Ears. I took home 3 and also delivered some to my neighbours. The Slovak Legion is now reopened following COVID Ontario Stage 3 Guidelines and we hope everyone enjoyed the opportunity to socialize with family and friends in a safe environment. We miss you and are here ready to serve you. A BIG THANK YOU from the Slovak Legion.
URL:https://slovaklegion.com/event/thank-you-to-our-volunteers-and-supporters-at-our-fundraising-bbq/
LOCATION:The Slovak Legion\, 801 Atlantic Ave\, Thunder Bay\, Ontario\, P7C 2T3\, Canada
CATEGORIES:Public
END:VEVENT
BEGIN:VEVENT
DTSTART;TZID=UTC:20210808T120000
DTEND;TZID=UTC:20210808T170000
DTSTAMP:20260422T183757
CREATED:20210728T194300Z
LAST-MODIFIED:20210730T082043Z
UID:17920-1628424000-1628442000@slovaklegion.com
SUMMARY:FUNdraising BBQ 12 to 5pm at the Slovak Legion
DESCRIPTION:SUNDAY AUGUST 8TH 12pm to 5pm\nSlovak Legion “FUNDRAISING BBQ”\n\n\nWe welcome you to come out and support the Slovak Legion and have some time to socialize with family and friends in a safe environment that will allow social distancing out and inside our Slovak Legion.\n\n\n\n\nWe will be offering some delicious fun food items for purchase to help get you in the Summer Spirit! ELEPANT EARS\, Hamburgers\, Hotdogs\, Italian sausages\, and Fries will be available for purchase AND our Bar will be open to serve you Refreshments.\n\n\n\n\n\nWe look forward to welcoming you back as we reopen the Slovak Legion following Ontario COVID Stage 3 Guidelines.\n\n\n\n\nWe have missed you and are back to serve you in our Hall\, and Slovak Legion East End Bar & Restaurant.\n\n\n\n\nHope to see you there.
URL:https://slovaklegion.com/event/funraising-bbq-12-to-5pm-at-the-slovak-legion/
LOCATION:The Slovak Legion\, 801 Atlantic Ave\, Thunder Bay\, Ontario\, P7C 2T3\, Canada
CATEGORIES:Public
END:VEVENT
END:VCALENDAR