BEGIN:VCALENDAR
VERSION:2.0
PRODID:-//Royal Canadian Slovak Legion Branch #129 - ECPv5.15.0//NONSGML v1.0//EN
CALSCALE:GREGORIAN
METHOD:PUBLISH
X-WR-CALNAME:Royal Canadian Slovak Legion Branch #129
X-ORIGINAL-URL:https://slovaklegion.com
X-WR-CALDESC:Events for Royal Canadian Slovak Legion Branch #129
BEGIN:VTIMEZONE
TZID:UTC
BEGIN:STANDARD
TZOFFSETFROM:+0000
TZOFFSETTO:+0000
TZNAME:UTC
DTSTART:20210101T000000
END:STANDARD
END:VTIMEZONE
BEGIN:VEVENT
DTSTART;TZID=UTC:20210729T090000
DTEND;TZID=UTC:20210807T230000
DTSTAMP:20260422T200116
CREATED:20210728T191503Z
LAST-MODIFIED:20210728T200525Z
UID:17911-1627549200-1628377200@slovaklegion.com
SUMMARY:Reopening Events and Information Update.  We are ready to serve you!
DESCRIPTION:Events and Information Update for the Slovak Legion. Enjoy and thank you for coming out to support us.
URL:https://slovaklegion.com/event/reopening-events-and-information-update-we-are-ready-to-serve-you/
LOCATION:The Slovak Legion\, 801 Atlantic Ave\, Thunder Bay\, Ontario\, P7C 2T3\, Canada
CATEGORIES:Public
END:VEVENT
END:VCALENDAR