BEGIN:VCALENDAR
VERSION:2.0
PRODID:-//Royal Canadian Slovak Legion Branch #129 - ECPv5.15.0//NONSGML v1.0//EN
CALSCALE:GREGORIAN
METHOD:PUBLISH
X-WR-CALNAME:Royal Canadian Slovak Legion Branch #129
X-ORIGINAL-URL:https://slovaklegion.com
X-WR-CALDESC:Events for Royal Canadian Slovak Legion Branch #129
BEGIN:VTIMEZONE
TZID:UTC
BEGIN:STANDARD
TZOFFSETFROM:+0000
TZOFFSETTO:+0000
TZNAME:UTC
DTSTART:20210101T000000
END:STANDARD
END:VTIMEZONE
BEGIN:VEVENT
DTSTART;TZID=UTC:20210726T090000
DTEND;TZID=UTC:20210728T120000
DTSTAMP:20260422T200119
CREATED:20210716T205437Z
LAST-MODIFIED:20210728T193010Z
UID:17863-1627290000-1627473600@slovaklegion.com
SUMMARY:Slovak Legion Reopening (following Ontario Stage 3 COVID Guidelines)  We have more for you!
DESCRIPTION:
URL:https://slovaklegion.com/event/slovak-legion-reopening-following-ontario-stage-3-covid-guidelines-we-have-more-for-you-3/
LOCATION:The Slovak Legion\, 801 Atlantic Ave\, Thunder Bay\, Ontario\, P7C 2T3\, Canada
CATEGORIES:Public
END:VEVENT
END:VCALENDAR