BEGIN:VCALENDAR
VERSION:2.0
PRODID:-//Royal Canadian Slovak Legion Branch #129 - ECPv5.15.0//NONSGML v1.0//EN
CALSCALE:GREGORIAN
METHOD:PUBLISH
X-WR-CALNAME:Royal Canadian Slovak Legion Branch #129
X-ORIGINAL-URL:https://slovaklegion.com
X-WR-CALDESC:Events for Royal Canadian Slovak Legion Branch #129
BEGIN:VTIMEZONE
TZID:UTC
BEGIN:STANDARD
TZOFFSETFROM:+0000
TZOFFSETTO:+0000
TZNAME:UTC
DTSTART:20210101T000000
END:STANDARD
END:VTIMEZONE
BEGIN:VEVENT
DTSTART;TZID=UTC:20210719T090000
DTEND;TZID=UTC:20210721T120000
DTSTAMP:20260422T211910
CREATED:20210716T215116Z
LAST-MODIFIED:20210716T215640Z
UID:17877-1626685200-1626868800@slovaklegion.com
SUMMARY:Book your Weddings or Events at the Slovak NOW!
DESCRIPTION:BOOK YOUR WEDDINGS & EVENTS AT THE SLOVAK LEGION TODAY BY CALLING 623-3354 EXT. 2\nWE ARE READY TO SERVE YOU AND RESERVE YOUR DATES.\n(you can also leave a message\, if needed\, and we will get back to you)
URL:https://slovaklegion.com/event/book-your-weddings-or-events-at-the-slovak-now/
LOCATION:The Slovak Legion\, 801 Atlantic Ave\, Thunder Bay\, Ontario\, P7C 2T3\, Canada
CATEGORIES:Public
END:VEVENT
BEGIN:VEVENT
DTSTART;TZID=UTC:20210720T080000
DTEND;TZID=UTC:20210721T170000
DTSTAMP:20260422T211910
CREATED:20210503T212151Z
LAST-MODIFIED:20210716T210436Z
UID:17785-1626768000-1626886800@slovaklegion.com
SUMMARY:Slovak Legion June 27 to July 25Takeout or Curbside Pickup Menu
DESCRIPTION:
URL:https://slovaklegion.com/event/slovak-legion-may-takeout-or-curbside-pickup-menu-2/
LOCATION:The Slovak Legion\, 801 Atlantic Ave\, Thunder Bay\, Ontario\, P7C 2T3\, Canada
CATEGORIES:Public
END:VEVENT
END:VCALENDAR