BEGIN:VCALENDAR
VERSION:2.0
PRODID:-//Royal Canadian Slovak Legion Branch #129 - ECPv5.15.0//NONSGML v1.0//EN
CALSCALE:GREGORIAN
METHOD:PUBLISH
X-WR-CALNAME:Royal Canadian Slovak Legion Branch #129
X-ORIGINAL-URL:https://slovaklegion.com
X-WR-CALDESC:Events for Royal Canadian Slovak Legion Branch #129
BEGIN:VTIMEZONE
TZID:UTC
BEGIN:STANDARD
TZOFFSETFROM:+0000
TZOFFSETTO:+0000
TZNAME:UTC
DTSTART:20200101T000000
END:STANDARD
END:VTIMEZONE
BEGIN:VEVENT
DTSTART;TZID=UTC:20201117T080000
DTEND;TZID=UTC:20201120T170000
DTSTAMP:20260423T074645
CREATED:20200926T025930Z
LAST-MODIFIED:20201109T160457Z
UID:17435-1605600000-1605891600@slovaklegion.com
SUMMARY:Slovak Legion Sundays Nov 15 to Dec 13 Takeout Curbside Menu
DESCRIPTION:
URL:https://slovaklegion.com/event/slovak-legion-sundays-oct-4-nov-8-takeout-curbside-menu/2020-11-17/
LOCATION:The Slovak Legion\, 801 Atlantic Ave\, Thunder Bay\, Ontario\, P7C 2T3\, Canada
CATEGORIES:Public
END:VEVENT
BEGIN:VEVENT
DTSTART;TZID=UTC:20201120T110000
DTEND;TZID=UTC:20201120T230000
DTSTAMP:20260423T074645
CREATED:20201105T203341Z
LAST-MODIFIED:20201115T034320Z
UID:17491-1605870000-1605913200@slovaklegion.com
SUMMARY:“Slovak Legion Reopening Events” in our Main Hall Fri Nov 20 including the "Slovak Legion Lunch Buffet"
DESCRIPTION:  \nThis is an opportunity to come out and have a wonderful time as we bring great events to you while practising Covid Guidelines. \nDue to COVID\, our staff will dish the food on to your plate cafeteria style at the Lunch Buffet.
URL:https://slovaklegion.com/event/slovak-legion-reopening-events-in-our-main-hall-thurs-nov-20/
LOCATION:The Slovak Legion\, 801 Atlantic Ave\, Thunder Bay\, Ontario\, P7C 2T3\, Canada
CATEGORIES:Public
END:VEVENT
END:VCALENDAR