BEGIN:VCALENDAR
VERSION:2.0
PRODID:-//Royal Canadian Slovak Legion Branch #129 - ECPv5.15.0//NONSGML v1.0//EN
CALSCALE:GREGORIAN
METHOD:PUBLISH
X-WR-CALNAME:Royal Canadian Slovak Legion Branch #129
X-ORIGINAL-URL:https://slovaklegion.com
X-WR-CALDESC:Events for Royal Canadian Slovak Legion Branch #129
BEGIN:VTIMEZONE
TZID:UTC
BEGIN:STANDARD
TZOFFSETFROM:+0000
TZOFFSETTO:+0000
TZNAME:UTC
DTSTART:20200101T000000
END:STANDARD
END:VTIMEZONE
BEGIN:VEVENT
DTSTART;TZID=UTC:20200926T090000
DTEND;TZID=UTC:20200927T170000
DTSTAMP:20260423T090843
CREATED:20200622T194748Z
LAST-MODIFIED:20200912T184748Z
UID:17241-1601110800-1601226000@slovaklegion.com
SUMMARY:Pre-ordering *Curbside Information for Fish Dinner Selections Sept 27
DESCRIPTION:*Curbside Pickup Pre-orders:  Phone 623-3354 Ext 2 Sunday 11am to 4pm\, pay by credit card\, arrange a time\, pick up order at Slovak Legion Main Door under carport. (If preferred\, leave messages all week & we will return your calls) \nCurbside Pickup runs from 12 noon to 5pm. \nTakeout also runs from 12 noon to 5pm. \n 
URL:https://slovaklegion.com/event/pre-ordering-curbside-information-sept27/
LOCATION:The Slovak Legion\, 801 Atlantic Ave\, Thunder Bay\, Ontario\, P7C 2T3\, Canada
CATEGORIES:Public
END:VEVENT
END:VCALENDAR