BEGIN:VCALENDAR
VERSION:2.0
PRODID:-//Royal Canadian Slovak Legion Branch #129 - ECPv5.15.0//NONSGML v1.0//EN
CALSCALE:GREGORIAN
METHOD:PUBLISH
X-WR-CALNAME:Royal Canadian Slovak Legion Branch #129
X-ORIGINAL-URL:https://slovaklegion.com
X-WR-CALDESC:Events for Royal Canadian Slovak Legion Branch #129
BEGIN:VTIMEZONE
TZID:UTC
BEGIN:STANDARD
TZOFFSETFROM:+0000
TZOFFSETTO:+0000
TZNAME:UTC
DTSTART:20200101T000000
END:STANDARD
END:VTIMEZONE
BEGIN:VEVENT
DTSTART;TZID=UTC:20200923T080000
DTEND;TZID=UTC:20200924T170000
DTSTAMP:20260423T105155
CREATED:20200912T184109Z
LAST-MODIFIED:20200912T184531Z
UID:17379-1600848000-1600966800@slovaklegion.com
SUMMARY:Slovak Legion Sundays Sept 13-Sept 27 Takeout/Curbside Menu
DESCRIPTION:
URL:https://slovaklegion.com/event/slovak-legion-sundays-sept-13-sept-27-takeout-curbside-menu/
LOCATION:The Slovak Legion\, 801 Atlantic Ave\, Thunder Bay\, Ontario\, P7C 2T3\, Canada
CATEGORIES:Public
END:VEVENT
END:VCALENDAR