BEGIN:VCALENDAR
VERSION:2.0
PRODID:-//Royal Canadian Slovak Legion Branch #129 - ECPv5.15.0//NONSGML v1.0//EN
CALSCALE:GREGORIAN
METHOD:PUBLISH
X-WR-CALNAME:Royal Canadian Slovak Legion Branch #129
X-ORIGINAL-URL:https://slovaklegion.com
X-WR-CALDESC:Events for Royal Canadian Slovak Legion Branch #129
BEGIN:VTIMEZONE
TZID:UTC
BEGIN:STANDARD
TZOFFSETFROM:+0000
TZOFFSETTO:+0000
TZNAME:UTC
DTSTART:20200101T000000
END:STANDARD
END:VTIMEZONE
BEGIN:VEVENT
DTSTART;TZID=UTC:20200317T160000
DTEND;TZID=UTC:20200317T220000
DTSTAMP:20260423T195507
CREATED:20180103T054158Z
LAST-MODIFIED:20200318T041902Z
UID:6472-1584460800-1584482400@slovaklegion.com
SUMMARY:Restaurant & Bar Closed until Ontario State of Emergency ends
DESCRIPTION: The Slovak Legion East End Bar & Restaurant will be closed effective TODAY March 17 until the Ontario State of Emergency is over. Please keep safe and the Slovak Legion East End Bar & Restaurant will be back in the future to serve you. \n  \n“Catch the Ace” is CANCELLED due to the Ontario State of Emergency that prohibits organized public gatherings of more than 50 people effective March 17 till the State of Emergency is lifted .
URL:https://slovaklegion.com/event/restaurant-hours-4-10pm/2020-03-17/
LOCATION:The Slovak Legion\, 801 Atlantic Ave\, Thunder Bay\, Ontario\, P7C 2T3\, Canada
CATEGORIES:Public
END:VEVENT
END:VCALENDAR