BEGIN:VCALENDAR
VERSION:2.0
PRODID:-//Royal Canadian Slovak Legion Branch #129 - ECPv5.15.0//NONSGML v1.0//EN
CALSCALE:GREGORIAN
METHOD:PUBLISH
X-WR-CALNAME:Royal Canadian Slovak Legion Branch #129
X-ORIGINAL-URL:https://slovaklegion.com
X-WR-CALDESC:Events for Royal Canadian Slovak Legion Branch #129
BEGIN:VTIMEZONE
TZID:UTC
BEGIN:STANDARD
TZOFFSETFROM:+0000
TZOFFSETTO:+0000
TZNAME:UTC
DTSTART:20200101T000000
END:STANDARD
END:VTIMEZONE
BEGIN:VEVENT
DTSTART;TZID=UTC:20200316T193000
DTEND;TZID=UTC:20200316T210000
DTSTAMP:20260423T195615
CREATED:20200316T144042Z
LAST-MODIFIED:20200316T144042Z
UID:16158-1584387000-1584392400@slovaklegion.com
SUMMARY:General Membership Meeting is CANCELLED
DESCRIPTION:The Royal Canadian Slovak Legion Branch#129 is cancelled for Monday March 16.
URL:https://slovaklegion.com/event/general-membership-meeting-is-cancelled/
LOCATION:The Slovak Legion\, 801 Atlantic Ave\, Thunder Bay\, Ontario\, P7C 2T3\, Canada
CATEGORIES:Public
END:VEVENT
END:VCALENDAR