BEGIN:VCALENDAR
VERSION:2.0
PRODID:-//Royal Canadian Slovak Legion Branch #129 - ECPv5.15.0//NONSGML v1.0//EN
CALSCALE:GREGORIAN
METHOD:PUBLISH
X-WR-CALNAME:Royal Canadian Slovak Legion Branch #129
X-ORIGINAL-URL:https://slovaklegion.com
X-WR-CALDESC:Events for Royal Canadian Slovak Legion Branch #129
BEGIN:VTIMEZONE
TZID:UTC
BEGIN:STANDARD
TZOFFSETFROM:+0000
TZOFFSETTO:+0000
TZNAME:UTC
DTSTART:20190101T000000
END:STANDARD
END:VTIMEZONE
BEGIN:VEVENT
DTSTART;TZID=UTC:20191226T113000
DTEND;TZID=UTC:20191226T133000
DTSTAMP:20260424T002440
CREATED:20171228T190739Z
LAST-MODIFIED:20191218T030809Z
UID:15697-1577359800-1577367000@slovaklegion.com
SUMMARY:No Lunch Buffet today. Closed for the Boxing Day Holiday.  See you tomorrow!
DESCRIPTION:The Lunch Buffet will not run today since the Slovak Legion is closed for the Boxing Day Holiday.  We are open again for the Lunch Buffet on Friday December 27. \nCome out and enjoy our Buffet.
URL:https://slovaklegion.com/event/lunch-buffet-2019-12-26/
LOCATION:The Slovak Legion\, 801 Atlantic Ave\, Thunder Bay\, Ontario\, P7C 2T3\, Canada
CATEGORIES:Public
END:VEVENT
BEGIN:VEVENT
DTSTART;TZID=UTC:20191226T180000
DTEND;TZID=UTC:20191226T210000
DTSTAMP:20260424T002440
CREATED:20180924T015653Z
LAST-MODIFIED:20191218T025222Z
UID:14224-1577383200-1577394000@slovaklegion.com
SUMMARY:Slovak Legion Closed December 26---Catch the Ace Lottery returns January 2
DESCRIPTION:“Catch the Ace” will not be held on December 26 since the Slovak Legion will be closed for the Boxing Day Holiday\n  \nLet’s Catch the Ace on January 2 when “Catch the Ace” returns to the Slovak Legion. \nRestaurant Hours 4pm to 10pm \n \nHERE WE GO AGAIN! \nThursday May 9\, 2019 is the starting date.  See you out for a lot of fun THIS THURSDAY and every THURSDAY till we catch the Ace!  This current draw ends when the ACE is caught! \nThe Royal Canadian Slovak Legion presents the “CATCH THE ACE LOTTERY” \nTicket Prices 3 for $5 \nEvery Thursday \nTicket sales from 6 to 8pm \n**Ace Draw at 8:30pm \nA Progressive Draw \nat the Slovak Legion Branch#129 801 Atlantic Ave Thunder Bay\, ON P7C 2T3 \nFor information call 807-623-3354 \n**Lottery Licence #M807386 \nOntario Problem Gaming Helpline \nFree Health Services Information \n1-888-230-3505 \nWe thank you for your support! \nThe end of the Catch the Ace is\n1 When the Ace of Spades is picked\nor\n2 When the Progressive Jackpot reaches $50\,000.00\nor\n3 When 52 weeks are reached \n**Our Restaurant is open from 4pm  with added Supper Specials during “Catch the Ace”. \n  \n 
URL:https://slovaklegion.com/event/slovak-legion-catch-the-ace-lottery-2019-12-26/
LOCATION:The Slovak Legion\, 801 Atlantic Ave\, Thunder Bay\, Ontario\, P7C 2T3\, Canada
CATEGORIES:Public
END:VEVENT
END:VCALENDAR