BEGIN:VCALENDAR
VERSION:2.0
PRODID:-//Royal Canadian Slovak Legion Branch #129 - ECPv5.15.0//NONSGML v1.0//EN
CALSCALE:GREGORIAN
METHOD:PUBLISH
X-WR-CALNAME:Royal Canadian Slovak Legion Branch #129
X-ORIGINAL-URL:https://slovaklegion.com
X-WR-CALDESC:Events for Royal Canadian Slovak Legion Branch #129
BEGIN:VTIMEZONE
TZID:UTC
BEGIN:STANDARD
TZOFFSETFROM:+0000
TZOFFSETTO:+0000
TZNAME:UTC
DTSTART:20180101T000000
END:STANDARD
END:VTIMEZONE
BEGIN:VEVENT
DTSTART;TZID=UTC:20181227T150000
DTEND;TZID=UTC:20181227T160000
DTSTAMP:20260424T202446
CREATED:20181227T191737Z
LAST-MODIFIED:20181227T194520Z
UID:12825-1545922800-1545926400@slovaklegion.com
SUMMARY:Legion Office CLOSING at 3pm TODAY due to UNSAFE DRIVING CONDITIONS
DESCRIPTION:Due to Weather Conditions the Slovak is CLOSING at 3pm Today Thursday Dec 27 and will reopen on Friday. The Catch the Ace Draw is CANCELLED for TONIGHT & will continue Thurs Jan 3. Sorry for the inconvenience but we are worried about UNSAFE DRIVING CONDITIONS. New Year’s Gala tickets will also be for sale on Friday\, at our Bar on the weekend and till Monday noon by calling 623-3354 Ext 1 or 2.
URL:https://slovaklegion.com/event/legion-office-closing-at-3pm-today-due-to-unsafe-driving-conditions/
LOCATION:The Slovak Legion\, 801 Atlantic Ave\, Thunder Bay\, Ontario\, P7C 2T3\, Canada
CATEGORIES:Public
END:VEVENT
BEGIN:VEVENT
DTSTART;TZID=UTC:20181227T170000
DTEND;TZID=UTC:20181227T210000
DTSTAMP:20260424T202446
CREATED:20180924T015653Z
LAST-MODIFIED:20181227T191312Z
UID:12356-1545930000-1545944400@slovaklegion.com
SUMMARY:Slovak Legion Catch the Ace Lottery MOVED to Jan 3 due to UNSAFE DRIVING CONDITIONS
DESCRIPTION:The December 27 Catch the ACE Draw has been CANCELLED due to UNSAFE DRIVING CONDITIONS. It will be moved to Thursday January 3 and the draw will continue till someone catches the Ace. Win that New Year’s money January 3 when the Draw returns.Catch the Ace Draw every Thursday Tickets for sale 5pm to 8pm Draw at 8:30pm  See you out for a lot of fun THIS THURSDAY and every THURSDAY till we catch the Ace!  This current draw ends when the ACE is caught! \nThe Royal Canadian Slovak Legion presents the “CATCH THE ACE LOTTERY” \nTicket Prices 3 for $5 \nEvery Thursday \nTicket sales from 5 to 8pm \n**Ace Draw at 8:30pm \nA Progressive Draw \nat the Slovak Legion Branch#129 801 Atlantic Ave Thunder Bay\, ON P7C 2T3 \nFor information call 807-623-3354 \n**Lottery Licence #M807095 \nOntario Problem Gaming Helpline \nFree Health Services Information \n1-888-230-3505 \nWe thank you for your support! \nThe end of the Catch the Ace is\n1 When the Ace of Spades is picked\nor\n2 When the Progressive Jackpot reaches $50\,000.00\nor\n3 When 52 weeks are reached (September 19\, 2019) \n  \n 
URL:https://slovaklegion.com/event/slovak-legion-catch-the-ace-lottery-2018-12-27/
LOCATION:The Slovak Legion\, 801 Atlantic Ave\, Thunder Bay\, Ontario\, P7C 2T3\, Canada
CATEGORIES:Public
END:VEVENT
END:VCALENDAR