BEGIN:VCALENDAR
VERSION:2.0
PRODID:-//Royal Canadian Slovak Legion Branch #129 - ECPv5.15.0//NONSGML v1.0//EN
CALSCALE:GREGORIAN
METHOD:PUBLISH
X-WR-CALNAME:Royal Canadian Slovak Legion Branch #129
X-ORIGINAL-URL:https://slovaklegion.com
X-WR-CALDESC:Events for Royal Canadian Slovak Legion Branch #129
BEGIN:VTIMEZONE
TZID:UTC
BEGIN:STANDARD
TZOFFSETFROM:+0000
TZOFFSETTO:+0000
TZNAME:UTC
DTSTART:20180101T000000
END:STANDARD
END:VTIMEZONE
BEGIN:VEVENT
DTSTART;TZID=UTC:20180408T120000
DTEND;TZID=UTC:20180408T170000
DTSTAMP:20260425T115405
CREATED:20180407T173812Z
LAST-MODIFIED:20180407T173908Z
UID:11721-1523188800-1523206800@slovaklegion.com
SUMMARY:Spaghetti Takout April 8 12pm to 5pm
DESCRIPTION:Spaghetti Takeout at the Royal Canadian Slovak Legion \nSunday April 8 12 to 5pm \nSpaghetti & 5 meatballs $11 \nRavoli & 3 meatballs $12 \n10 Meatballs $11 \nLitre of Sauce $10 \nGluten free available for $13 per order…pre-order by calling 623-3354 \nBring your own container or purchase one from us. \nThank you for supporting the Slovak Legion fundraising efforts. Just over the bridge.
URL:https://slovaklegion.com/event/spaghetti-takout-april-8-12pm-to-5pm/
LOCATION:The Slovak Legion\, 801 Atlantic Ave\, Thunder Bay\, Ontario\, P7C 2T3\, Canada
CATEGORIES:Public
END:VEVENT
END:VCALENDAR