BEGIN:VCALENDAR
VERSION:2.0
PRODID:-//Royal Canadian Slovak Legion Branch #129 - ECPv5.15.0//NONSGML v1.0//EN
CALSCALE:GREGORIAN
METHOD:PUBLISH
X-WR-CALNAME:Royal Canadian Slovak Legion Branch #129
X-ORIGINAL-URL:https://slovaklegion.com
X-WR-CALDESC:Events for Royal Canadian Slovak Legion Branch #129
BEGIN:VTIMEZONE
TZID:UTC
BEGIN:STANDARD
TZOFFSETFROM:+0000
TZOFFSETTO:+0000
TZNAME:UTC
DTSTART:20180101T000000
END:STANDARD
END:VTIMEZONE
BEGIN:VEVENT
DTSTART;TZID=UTC:20180319T193000
DTEND;TZID=UTC:20180319T210000
DTSTAMP:20260425T132548
CREATED:20180302T192739Z
LAST-MODIFIED:20180302T192739Z
UID:11692-1521487800-1521493200@slovaklegion.com
SUMMARY:Slovak Legion Branch 129 General Membership Meeting
DESCRIPTION:Slovak Legion Branch 129 General Membership Meeting.  Monday\, March 19\, 2018 at 7:30 p.m.  All members\, please plan on attending.  Light lunch will be served.
URL:https://slovaklegion.com/event/slovak-legion-branch-129-general-membership-meeting/
LOCATION:The Slovak Legion\, 801 Atlantic Ave\, Thunder Bay\, Ontario\, P7C 2T3\, Canada
CATEGORIES:Public
END:VEVENT
END:VCALENDAR