BEGIN:VCALENDAR
VERSION:2.0
PRODID:-//Royal Canadian Slovak Legion Branch #129 - ECPv5.15.0//NONSGML v1.0//EN
CALSCALE:GREGORIAN
METHOD:PUBLISH
X-WR-CALNAME:Royal Canadian Slovak Legion Branch #129
X-ORIGINAL-URL:https://slovaklegion.com
X-WR-CALDESC:Events for Royal Canadian Slovak Legion Branch #129
BEGIN:VTIMEZONE
TZID:UTC
BEGIN:STANDARD
TZOFFSETFROM:+0000
TZOFFSETTO:+0000
TZNAME:UTC
DTSTART:20180101T000000
END:STANDARD
END:VTIMEZONE
BEGIN:VEVENT
DTSTART;TZID=UTC:20180125T190000
DTEND;TZID=UTC:20180125T210000
DTSTAMP:20260425T161231
CREATED:20180115T181558Z
LAST-MODIFIED:20180115T181558Z
UID:11535-1516906800-1516914000@slovaklegion.com
SUMMARY:Stu Rankin Live in the Slovak Legion Bar
DESCRIPTION:Music by Stu Rankin from 7:00 p.m. to 9:00 p.m. in our Bar Thursday January 25.  No cover charge.  Everyone Welcome.
URL:https://slovaklegion.com/event/stu-rankin-live-in-the-slovak-legion-bar/
LOCATION:The Slovak Legion\, 801 Atlantic Ave\, Thunder Bay\, Ontario\, P7C 2T3\, Canada
CATEGORIES:Public
END:VEVENT
END:VCALENDAR