BEGIN:VCALENDAR
VERSION:2.0
PRODID:-//Royal Canadian Slovak Legion Branch #129 - ECPv5.15.0//NONSGML v1.0//EN
CALSCALE:GREGORIAN
METHOD:PUBLISH
X-WR-CALNAME:Royal Canadian Slovak Legion Branch #129
X-ORIGINAL-URL:https://slovaklegion.com
X-WR-CALDESC:Events for Royal Canadian Slovak Legion Branch #129
BEGIN:VTIMEZONE
TZID:UTC
BEGIN:STANDARD
TZOFFSETFROM:+0000
TZOFFSETTO:+0000
TZNAME:UTC
DTSTART:20170101T000000
END:STANDARD
END:VTIMEZONE
BEGIN:VEVENT
DTSTART;TZID=UTC:20171231T180000
DTEND;TZID=UTC:20180101T010000
DTSTAMP:20260425T161226
CREATED:20171127T093004Z
LAST-MODIFIED:20171228T001919Z
UID:5404-1514743200-1514768400@slovaklegion.com
SUMMARY:New Year's Eve Gala with LIVE BAND 21 Gun Fun (tickets available)
DESCRIPTION:  \n \nNew Year’s Eve Gala at the Slovak Legion with LIVE Band\, “21 Gun Fun”. \nTICKETS AVAILABLE.  Office Hours Dec 27 to 29 9am to 4pm \n$60 per person Call 623-3354 Ext 1 or 2 or stop by the Slovak Legion to get your tickets. \nBring in the New Year with this HOT Band. \nEnjoy a superb dinner\, party favours\, midnight snack and free taxi service within city limits. \n“21 Gun Fun” rocked last New Year’s Eve at the Slovak. It is time to get the Party started for 2018! \n 
URL:https://slovaklegion.com/event/new-years-eve-gala-with-live-band-21-gun-fun/
LOCATION:The Slovak Legion\, 801 Atlantic Ave\, Thunder Bay\, Ontario\, P7C 2T3\, Canada
CATEGORIES:Public
END:VEVENT
END:VCALENDAR