BEGIN:VCALENDAR
VERSION:2.0
PRODID:-//Royal Canadian Slovak Legion Branch #129 - ECPv5.15.0//NONSGML v1.0//EN
CALSCALE:GREGORIAN
METHOD:PUBLISH
X-WR-CALNAME:Royal Canadian Slovak Legion Branch #129
X-ORIGINAL-URL:http://slovaklegion.com
X-WR-CALDESC:Events for Royal Canadian Slovak Legion Branch #129
BEGIN:VTIMEZONE
TZID:UTC
BEGIN:STANDARD
TZOFFSETFROM:+0000
TZOFFSETTO:+0000
TZNAME:UTC
DTSTART:20200101T000000
END:STANDARD
END:VTIMEZONE
BEGIN:VEVENT
DTSTART;TZID=UTC:20200101T090000
DTEND;TZID=UTC:20200101T160000
DTSTAMP:20260422T085918
CREATED:20181109T051757Z
LAST-MODIFIED:20191218T024140Z
UID:12475-1577869200-1577894400@slovaklegion.com
SUMMARY:The Slovak Legion is Closed today.  Happy New Year!
DESCRIPTION:
URL:http://slovaklegion.com/event/the-slovak-legion-is-closed-today-happy-new-year/
LOCATION:The Slovak Legion\, 801 Atlantic Ave\, Thunder Bay\, Ontario\, P7C 2T3\, Canada
END:VEVENT
END:VCALENDAR