BEGIN:VCALENDAR
VERSION:2.0
PRODID:-//Royal Canadian Slovak Legion Branch #129 - ECPv5.15.0//NONSGML v1.0//EN
CALSCALE:GREGORIAN
METHOD:PUBLISH
X-WR-CALNAME:Royal Canadian Slovak Legion Branch #129
X-ORIGINAL-URL:http://slovaklegion.com
X-WR-CALDESC:Events for Royal Canadian Slovak Legion Branch #129
BEGIN:VTIMEZONE
TZID:UTC
BEGIN:STANDARD
TZOFFSETFROM:+0000
TZOFFSETTO:+0000
TZNAME:UTC
DTSTART:20200101T000000
END:STANDARD
END:VTIMEZONE
BEGIN:VEVENT
DTSTART;TZID=UTC:20201231T080000
DTEND;TZID=UTC:20210101T170000
DTSTAMP:20260420T103337
CREATED:20201220T205125Z
LAST-MODIFIED:20201220T205152Z
UID:17612-1609401600-1609520400@slovaklegion.com
SUMMARY:The Slovak Legion is closed today!
DESCRIPTION:The Slovak Legion will be closed December 31and January 1 all day in all venues. \nWishing you a safe Holiday!
URL:http://slovaklegion.com/event/the-slovak-legion-is-closed-today-2/
LOCATION:The Slovak Legion\, 801 Atlantic Ave\, Thunder Bay\, Ontario\, P7C 2T3\, Canada
CATEGORIES:Public
END:VEVENT
END:VCALENDAR