BEGIN:VCALENDAR
VERSION:2.0
PRODID:-//Royal Canadian Slovak Legion Branch #129 - ECPv5.15.0//NONSGML v1.0//EN
CALSCALE:GREGORIAN
METHOD:PUBLISH
X-WR-CALNAME:Royal Canadian Slovak Legion Branch #129
X-ORIGINAL-URL:http://slovaklegion.com
X-WR-CALDESC:Events for Royal Canadian Slovak Legion Branch #129
BEGIN:VTIMEZONE
TZID:UTC
BEGIN:STANDARD
TZOFFSETFROM:+0000
TZOFFSETTO:+0000
TZNAME:UTC
DTSTART:20200101T000000
END:STANDARD
END:VTIMEZONE
BEGIN:VEVENT
DTSTART;TZID=UTC:20201009T090000
DTEND;TZID=UTC:20201009T130000
DTSTAMP:20260422T011452
CREATED:20191011T070917Z
LAST-MODIFIED:20200926T024710Z
UID:15478-1602234000-1602248400@slovaklegion.com
SUMMARY:Thanksgiving Cabbage Roll and Perogie Orders Pickup Today! 9am to 1pm
DESCRIPTION:Thanksgiving Cabbage Roll and Perogie Orders Pickup Date Friday October 9\, 2020 between 9am and 1:00pm at the Slovak Legion Branch 129. \nPlease phone 623-3354 Ext. 1 or 2 between 9:00am and noon if you have questions. \nPick up at the Slovak Legion at 801 Atlantic Avenue…just over the Pacific Avenue Bridge. You can also reach us using the Main Street Bridge.
URL:http://slovaklegion.com/event/thanksgiving-cabbage-roll-and-perogie-orders-pickup-today/
LOCATION:The Slovak Legion\, 801 Atlantic Ave\, Thunder Bay\, Ontario\, P7C 2T3\, Canada
CATEGORIES:Public
END:VEVENT
END:VCALENDAR