BEGIN:VCALENDAR
VERSION:2.0
PRODID:-//Royal Canadian Slovak Legion Branch #129 - ECPv5.15.0//NONSGML v1.0//EN
CALSCALE:GREGORIAN
METHOD:PUBLISH
X-WR-CALNAME:Royal Canadian Slovak Legion Branch #129
X-ORIGINAL-URL:http://slovaklegion.com
X-WR-CALDESC:Events for Royal Canadian Slovak Legion Branch #129
BEGIN:VTIMEZONE
TZID:UTC
BEGIN:STANDARD
TZOFFSETFROM:+0000
TZOFFSETTO:+0000
TZNAME:UTC
DTSTART:20210101T000000
END:STANDARD
END:VTIMEZONE
BEGIN:VEVENT
DTSTART;TZID=UTC:20210706T080000
DTEND;TZID=UTC:20210708T170000
DTSTAMP:20260422T045815
CREATED:20210705T182433Z
LAST-MODIFIED:20210705T182433Z
UID:17845-1625558400-1625763600@slovaklegion.com
SUMMARY:Thank you Volunteers and Supporters!
DESCRIPTION:Thank you to our volunteers and supporters for coming out on Sunday. It was so hot but you are always there for us and we appreciate this. Next Sunday Spaghetti Takeout is back and what an easy takeout for home or camp. You keep us going! Great people…great community.
URL:http://slovaklegion.com/event/thank-you-volunteers-and-supporters/
LOCATION:The Slovak Legion\, 801 Atlantic Ave\, Thunder Bay\, Ontario\, P7C 2T3\, Canada
CATEGORIES:Public
END:VEVENT
END:VCALENDAR