BEGIN:VCALENDAR
VERSION:2.0
PRODID:-//Royal Canadian Slovak Legion Branch #129 - ECPv5.15.0//NONSGML v1.0//EN
CALSCALE:GREGORIAN
METHOD:PUBLISH
X-WR-CALNAME:Royal Canadian Slovak Legion Branch #129
X-ORIGINAL-URL:http://slovaklegion.com
X-WR-CALDESC:Events for Royal Canadian Slovak Legion Branch #129
BEGIN:VTIMEZONE
TZID:UTC
BEGIN:STANDARD
TZOFFSETFROM:+0000
TZOFFSETTO:+0000
TZNAME:UTC
DTSTART:20200101T000000
END:STANDARD
END:VTIMEZONE
BEGIN:VEVENT
DTSTART;TZID=UTC:20200824T080000
DTEND;TZID=UTC:20200825T170000
DTSTAMP:20260421T025425
CREATED:20200824T192848Z
LAST-MODIFIED:20200824T193018Z
UID:17344-1598256000-1598374800@slovaklegion.com
SUMMARY:Thank you for the support!
DESCRIPTION:Thank you to everyone who came out to enjoy Carmine’s Beef on a Bun Au Jus and all of our Takeout and Curbside Pickup offerings on Sunday. Community and volunteer support are keeping the Slovak Legion alive during these challenging times. We thank each one of you.
URL:http://slovaklegion.com/event/thank-you-for-the-support-2/
LOCATION:The Slovak Legion\, 801 Atlantic Ave\, Thunder Bay\, Ontario\, P7C 2T3\, Canada
CATEGORIES:Public
END:VEVENT
END:VCALENDAR