BEGIN:VCALENDAR
VERSION:2.0
PRODID:-//Royal Canadian Slovak Legion Branch #129 - ECPv5.15.0//NONSGML v1.0//EN
CALSCALE:GREGORIAN
METHOD:PUBLISH
X-WR-CALNAME:Royal Canadian Slovak Legion Branch #129
X-ORIGINAL-URL:http://slovaklegion.com
X-WR-CALDESC:Events for Royal Canadian Slovak Legion Branch #129
BEGIN:VTIMEZONE
TZID:UTC
BEGIN:STANDARD
TZOFFSETFROM:+0000
TZOFFSETTO:+0000
TZNAME:UTC
DTSTART:20200101T000000
END:STANDARD
END:VTIMEZONE
BEGIN:VEVENT
DTSTART;TZID=UTC:20200906T080000
DTEND;TZID=UTC:20200906T170000
DTSTAMP:20260421T114439
CREATED:20200827T171142Z
LAST-MODIFIED:20200912T191232Z
UID:17359-1599379200-1599411600@slovaklegion.com
SUMMARY:Takeout and Curbside Pickup CANCELLED Sept 6 to give our Volunteers a well-deserved break!
DESCRIPTION:We are cancelling our Takeout and Curbside Pickup on Sunday September 6 to give our Volunteers a well-deserved break so they can enjoy the Labour Day Weekend. \nThey come out and work so hard to keep our Legion alive and active in the community\, supporting us as we fundraise and we would not be here without them.  You need to know how much we appreciate your kindness and hard work. \nEnjoy your time this Long Weekend and we will be thrilled to see you back on September 13 for our Slovak Legion Perogie & Spaghetti & Meatballs Takeout and *Curbside Pickup. \nWe also look forward to meeting our wonderful supporters who come out so often to keep our Slovak Legion part of our community during these difficult times. \nVolunteers and supporters…YOU are the BEST!  Thank you from the Royal Canadian Slovak Legion Branch#129 Executive. \n \n 
URL:http://slovaklegion.com/event/takeout-and-curbside-pickup-cancelled-sept-6-to-give-our-volunteers-a-well-deserved-break/
LOCATION:The Slovak Legion\, 801 Atlantic Ave\, Thunder Bay\, Ontario\, P7C 2T3\, Canada
CATEGORIES:Public
END:VEVENT
END:VCALENDAR