BEGIN:VCALENDAR
VERSION:2.0
PRODID:-//Royal Canadian Slovak Legion Branch #129 - ECPv5.15.0//NONSGML v1.0//EN
CALSCALE:GREGORIAN
METHOD:PUBLISH
X-WR-CALNAME:Royal Canadian Slovak Legion Branch #129
X-ORIGINAL-URL:http://slovaklegion.com
X-WR-CALDESC:Events for Royal Canadian Slovak Legion Branch #129
BEGIN:VTIMEZONE
TZID:UTC
BEGIN:STANDARD
TZOFFSETFROM:+0000
TZOFFSETTO:+0000
TZNAME:UTC
DTSTART:20200101T000000
END:STANDARD
END:VTIMEZONE
BEGIN:VEVENT
DTSTART;TZID=UTC:20200202T160000
DTEND;TZID=UTC:20200202T233000
DTSTAMP:20260422T120047
CREATED:20190114T201616Z
LAST-MODIFIED:20200110T210357Z
UID:12848-1580659200-1580686200@slovaklegion.com
SUMMARY:SUPER BOWL PARTY AT THE SLOVAK LEGION SUPER DOME
DESCRIPTION:Sunday February 2\, 2020 \nFREE ADMISSION. \nDoors open at 4pm. \nLet’s get the party started! \nTVs\, Prizes\, Food\, Giveaways\, Annual Perogie Eating Contest and more. \n801 Atlantic Ave…Just over the Bridge.
URL:http://slovaklegion.com/event/super-bowl-party-at-the-slovak-legion-super-dome/
LOCATION:The Slovak Legion\, 801 Atlantic Ave\, Thunder Bay\, Ontario\, P7C 2T3\, Canada
CATEGORIES:Public
END:VEVENT
END:VCALENDAR