BEGIN:VCALENDAR
VERSION:2.0
PRODID:-//Royal Canadian Slovak Legion Branch #129 - ECPv5.15.0//NONSGML v1.0//EN
CALSCALE:GREGORIAN
METHOD:PUBLISH
X-WR-CALNAME:Royal Canadian Slovak Legion Branch #129
X-ORIGINAL-URL:http://slovaklegion.com
X-WR-CALDESC:Events for Royal Canadian Slovak Legion Branch #129
BEGIN:VTIMEZONE
TZID:UTC
BEGIN:STANDARD
TZOFFSETFROM:+0000
TZOFFSETTO:+0000
TZNAME:UTC
DTSTART:20200101T000000
END:STANDARD
END:VTIMEZONE
BEGIN:VEVENT
DTSTART;TZID=UTC:20200118T160000
DTEND;TZID=UTC:20200119T010000
DTSTAMP:20260422T071915
CREATED:20200119T002042Z
LAST-MODIFIED:20200119T012111Z
UID:15996-1579363200-1579395600@slovaklegion.com
SUMMARY:Sorry Bar Closed tonight due to bad weather and road conditions Jan18
DESCRIPTION:Sorry Bar Closed tonight due to bad weather and road conditions Jan 18
URL:http://slovaklegion.com/event/sorry-bar-closed-tonight-due-to-bad-weather-and-road-conditions-jan18/
LOCATION:The Slovak Legion\, 801 Atlantic Ave\, Thunder Bay\, Ontario\, P7C 2T3\, Canada
CATEGORIES:Public
END:VEVENT
END:VCALENDAR