BEGIN:VCALENDAR
VERSION:2.0
PRODID:-//Royal Canadian Slovak Legion Branch #129 - ECPv5.15.0//NONSGML v1.0//EN
CALSCALE:GREGORIAN
METHOD:PUBLISH
X-WR-CALNAME:Royal Canadian Slovak Legion Branch #129
X-ORIGINAL-URL:http://slovaklegion.com
X-WR-CALDESC:Events for Royal Canadian Slovak Legion Branch #129
BEGIN:VTIMEZONE
TZID:UTC
BEGIN:STANDARD
TZOFFSETFROM:+0000
TZOFFSETTO:+0000
TZNAME:UTC
DTSTART:20200101T000000
END:STANDARD
END:VTIMEZONE
BEGIN:VEVENT
DTSTART;TZID=UTC:20200920T120000
DTEND;TZID=UTC:20200920T170000
DTSTAMP:20260422T011640
CREATED:20200827T170306Z
LAST-MODIFIED:20200829T160922Z
UID:17356-1600603200-1600621200@slovaklegion.com
SUMMARY:Slovak Legion Traditional Slovak Platter TAKEOUT or *Curbside Pickup
DESCRIPTION:Slovak Legion Traditional Slovak Platter\nTAKEOUT or *Curbside Pickup\nSunday September 20\, 2020 12pm to 5pm\n\nThe Slovak Legion is offering you a quick trip to Slovakia with our Slovak Platter Takeout or Curbside on Sunday September 20 from 12 pm to 5pm.\n\n\n\nTake Out or *Curbside Pickup MENU\nMenu Option 1\nTraditional “Slovak Platter”\nLocally made Legion smokie (from “The Commissary”) on a bun served with 3 cabbage rolls\, 3 perogies and you choice of condiments including Sour Cream & Sauerkraut.\n$12 Tax included\n\nMenu Option 2\n2-Smokie Slovak Platter (by request)\n2 Locally made Legion smokie (from “The Commissary”) on buns served with 3 cabbage rolls\, 3 perogies and you choice of condiments including Sour Cream & Sauerkraut.\n$18 Tax included\n\nAlso for Sale\nPerogies $6 a dozen\n\nWhile quantities last\nSlovak Cabbage Rolls with Meat $12 a dozen\nHomemade Cherry Cheesecake or Apple Pie $4\n\nTakeout: Please enter by Bar Door\, Cash\, Debit\, and Credit Card payment accepted. Social Distancing enforced. Leave by Solarium Door. Thank you.\n\n*Curbside Pickup Pre-orders: Phone 623-3354 Ext 2 Sunday between 11am and 4pm\, pay by credit card\, arrange a time\, pick up order at Slovak Legion Main Door under carport. (If preferred call Friday 11 am to 3pm to place an order\, or leave messages all week & we will return your calls Fri. or Sun.)\n\nCurbside Pickup runs from 12 noon to 5pm.\nTakeout also runs from 12 noon to 5pm.\n\nWe are here for our community and thank everyone who comes out to support us while enjoying some great food.\nWe practise Social Distancing and thank you in advance. We appreciate your support.\n\nSlovak Legion 623-3354 Ext 2\n801 Atlantic Avenue Thunder Bay P7C 2T3\nJust over the Pacific Avenue bridge.\n\nAlternative Directions to the Slovak Legion 801 Atlantic Avenue using Main Street Bridge\n(To avoid using the East End Bridge during City Repair Work or to avoid the Construction work around Pacific Avenue and Simpson Street. you can use the Main Street Bridge)\n1 Go to the corner of the Harbour Expressway and Fort William Road and proceed down Main Street over the Main Street Bridge.\n2 Go to the end and turn turn right onto 110th Ave/Island Dr.\n3 Watch for the Slovak Legion sign and turn. Your delicious Curbside and Takeout are waiting for you.
URL:http://slovaklegion.com/event/slovak-legion-traditional-slovak-platter-takeout-or-curbside-pickup/
LOCATION:The Slovak Legion\, 801 Atlantic Ave\, Thunder Bay\, Ontario\, P7C 2T3\, Canada
CATEGORIES:Public
END:VEVENT
END:VCALENDAR