BEGIN:VCALENDAR
VERSION:2.0
PRODID:-//Royal Canadian Slovak Legion Branch #129 - ECPv5.15.0//NONSGML v1.0//EN
CALSCALE:GREGORIAN
METHOD:PUBLISH
X-WR-CALNAME:Royal Canadian Slovak Legion Branch #129
X-ORIGINAL-URL:http://slovaklegion.com
X-WR-CALDESC:Events for Royal Canadian Slovak Legion Branch #129
BEGIN:VTIMEZONE
TZID:UTC
BEGIN:STANDARD
TZOFFSETFROM:+0000
TZOFFSETTO:+0000
TZNAME:UTC
DTSTART:20200101T000000
END:STANDARD
END:VTIMEZONE
BEGIN:VEVENT
DTSTART;TZID=UTC:20201113T080000
DTEND;TZID=UTC:20201114T170000
DTSTAMP:20260421T190542
CREATED:20200926T030203Z
LAST-MODIFIED:20201109T160244Z
UID:17440-1605254400-1605373200@slovaklegion.com
SUMMARY:Slovak Legion Sundays Nov 15 to Dec 12 Takeout Curbside Menu
DESCRIPTION:
URL:http://slovaklegion.com/event/slovak-legion-sundays-oct-4-nov-8-takeout-curbside-menu-3/
LOCATION:The Slovak Legion\, 801 Atlantic Ave\, Thunder Bay\, Ontario\, P7C 2T3\, Canada
CATEGORIES:Public
END:VEVENT
END:VCALENDAR