BEGIN:VCALENDAR
VERSION:2.0
PRODID:-//Royal Canadian Slovak Legion Branch #129 - ECPv5.15.0//NONSGML v1.0//EN
CALSCALE:GREGORIAN
METHOD:PUBLISH
X-WR-CALNAME:Royal Canadian Slovak Legion Branch #129
X-ORIGINAL-URL:http://slovaklegion.com
X-WR-CALDESC:Events for Royal Canadian Slovak Legion Branch #129
BEGIN:VTIMEZONE
TZID:UTC
BEGIN:STANDARD
TZOFFSETFROM:+0000
TZOFFSETTO:+0000
TZNAME:UTC
DTSTART:20200101T000000
END:STANDARD
END:VTIMEZONE
BEGIN:VEVENT
DTSTART;TZID=UTC:20200826T080000
DTEND;TZID=UTC:20200826T170000
DTSTAMP:20260421T043058
CREATED:20200815T190059Z
LAST-MODIFIED:20200815T190248Z
UID:17333-1598428800-1598461200@slovaklegion.com
SUMMARY:Slovak Legion Sundays August 2-August 30 Takeout Curbside Menu
DESCRIPTION:
URL:http://slovaklegion.com/event/slovak-legion-sundays-august-26-august-30-takeout-curbside-menu/
LOCATION:The Slovak Legion\, 801 Atlantic Ave\, Thunder Bay\, Ontario\, P7C 2T3\, Canada
END:VEVENT
END:VCALENDAR