BEGIN:VCALENDAR
VERSION:2.0
PRODID:-//Royal Canadian Slovak Legion Branch #129 - ECPv5.15.0//NONSGML v1.0//EN
CALSCALE:GREGORIAN
METHOD:PUBLISH
X-WR-CALNAME:Royal Canadian Slovak Legion Branch #129
X-ORIGINAL-URL:http://slovaklegion.com
X-WR-CALDESC:Events for Royal Canadian Slovak Legion Branch #129
BEGIN:VTIMEZONE
TZID:UTC
BEGIN:STANDARD
TZOFFSETFROM:+0000
TZOFFSETTO:+0000
TZNAME:UTC
DTSTART:20200101T000000
END:STANDARD
END:VTIMEZONE
BEGIN:VEVENT
DTSTART;TZID=UTC:20200308T120000
DTEND;TZID=UTC:20200308T170000
DTSTAMP:20260422T170233
CREATED:20190930T192157Z
LAST-MODIFIED:20200307T174335Z
UID:15463-1583668800-1583686800@slovaklegion.com
SUMMARY:Slovak Legion Spaghetti Takeout March 8
DESCRIPTION:Our next great Spaghetti Takeout is on March 8 from 12 to 5pm. Please use the Slovak Legion (Bar Entrance). \nCome on down to enjoy Carmine’s delicious meatballs. \n \nSunday March 8 from 12 to 5pm Menu \nSpaghetti & 5 meatballs $11\nRavioli & 3 meatballs $12\n10 Meatballs $11\nLitre of Sauce $10\nGluten free available for $13 per order…pre-order by calling 623-3354\nBring your own container or purchase one from us. \nThank you for supporting the Slovak Legion fundraising efforts. Just over the bridge.
URL:http://slovaklegion.com/event/slovak-legion-spaghetti-takeout-mar-8/
LOCATION:The Slovak Legion\, 801 Atlantic Ave\, Thunder Bay\, Ontario\, P7C 2T3\, Canada
CATEGORIES:Public
END:VEVENT
END:VCALENDAR