BEGIN:VCALENDAR
VERSION:2.0
PRODID:-//Royal Canadian Slovak Legion Branch #129 - ECPv5.15.0//NONSGML v1.0//EN
CALSCALE:GREGORIAN
METHOD:PUBLISH
X-WR-CALNAME:Royal Canadian Slovak Legion Branch #129
X-ORIGINAL-URL:http://slovaklegion.com
X-WR-CALDESC:Events for Royal Canadian Slovak Legion Branch #129
BEGIN:VTIMEZONE
TZID:UTC
BEGIN:STANDARD
TZOFFSETFROM:+0000
TZOFFSETTO:+0000
TZNAME:UTC
DTSTART:20230101T000000
END:STANDARD
END:VTIMEZONE
BEGIN:VEVENT
DTSTART;TZID=UTC:20230122T120000
DTEND;TZID=UTC:20230122T170000
DTSTAMP:20260419T184704
CREATED:20221014T164702Z
LAST-MODIFIED:20230113T235318Z
UID:18903-1674388800-1674406800@slovaklegion.com
SUMMARY:Slovak Legion Spaghetti & Meatball Takeout Sunday January 22\, 2023
DESCRIPTION:Slovak Legion Spaghetti & Meatball Takeout Sunday January 22\, 2023 12 to 5pm (Perogies & more) \n \nTakeout Menu\nSpaghetti & 5 meatballs $14\nRavioli & 3 meatballs $14\n10 Meatballs $14\nGluten free available for $15 per order…MUST pre-order by calling 623-3354\nLitre of Sauce $12 \nPerogies by the Dozen $7 \nWhile supplies last\nApple Pie or Homemade Cheesecake $5 \nSalads $6 \n7″ Chicken Pot Pie $6 \nIf you would like to pre-order call 623-354 before noon on Monday to Friday. \n“In support of a greener environment\, the Slovak Legion welcomes you to bring your own containers.” \nTakeout: Please enter by Side (Bar) Door for this Takeout\, Cash\, Debit\, and Credit Card payment accepted. Thank you. \nTakeout Times run from 12 to 5pm \nThank you for supporting the Slovak Legion.\nSlovak Legion 623-3354 Ext 1 or 2\n801 Atlantic Avenue Thunder Bay P7C 2T3 \nSlovak Legion just over the Pacific bridge to your left or use the Main Street Bridge. \nAlternative Directions to the Slovak Legion 801 Atlantic Avenue using Main Street Bridge\n1 Go to the corner of the Harbour Expressway and Fort William Road and proceed down Main Street over the Main Street Bridge.\n2 Go to the end and turn turn right onto 110th Ave/Island Dr.
URL:http://slovaklegion.com/event/slovak-legion-spaghetti-meatball-takeout-sunday-january-22/
LOCATION:The Slovak Legion\, 801 Atlantic Ave\, Thunder Bay\, Ontario\, P7C 2T3\, Canada
CATEGORIES:Public
END:VEVENT
END:VCALENDAR