BEGIN:VCALENDAR
VERSION:2.0
PRODID:-//Royal Canadian Slovak Legion Branch #129 - ECPv5.15.0//NONSGML v1.0//EN
CALSCALE:GREGORIAN
METHOD:PUBLISH
X-WR-CALNAME:Royal Canadian Slovak Legion Branch #129
X-ORIGINAL-URL:http://slovaklegion.com
X-WR-CALDESC:Events for Royal Canadian Slovak Legion Branch #129
BEGIN:VTIMEZONE
TZID:UTC
BEGIN:STANDARD
TZOFFSETFROM:+0000
TZOFFSETTO:+0000
TZNAME:UTC
DTSTART:20200101T000000
END:STANDARD
END:VTIMEZONE
BEGIN:VEVENT
DTSTART;TZID=UTC:20201119T170000
DTEND;TZID=UTC:20201119T230000
DTSTAMP:20260421T121744
CREATED:20201105T203109Z
LAST-MODIFIED:20201115T034636Z
UID:17487-1605805200-1605826800@slovaklegion.com
SUMMARY:“Slovak Legion Reopening Events” in our Main Hall Thurs Nov 19 including "Catch the Ace" continuing...
DESCRIPTION:This is an opportunity to come out and have a wonderful time as we bring great events to you while practising Covid Guidelines.
URL:http://slovaklegion.com/event/slovak-legion-reopening-events-in-our-main-hall-thurs-nov-19/
LOCATION:The Slovak Legion\, 801 Atlantic Ave\, Thunder Bay\, Ontario\, P7C 2T3\, Canada
CATEGORIES:Public
END:VEVENT
END:VCALENDAR