BEGIN:VCALENDAR
VERSION:2.0
PRODID:-//Royal Canadian Slovak Legion Branch #129 - ECPv5.15.0//NONSGML v1.0//EN
CALSCALE:GREGORIAN
METHOD:PUBLISH
X-WR-CALNAME:Royal Canadian Slovak Legion Branch #129
X-ORIGINAL-URL:http://slovaklegion.com
X-WR-CALDESC:Events for Royal Canadian Slovak Legion Branch #129
BEGIN:VTIMEZONE
TZID:UTC
BEGIN:STANDARD
TZOFFSETFROM:+0000
TZOFFSETTO:+0000
TZNAME:UTC
DTSTART:20200101T000000
END:STANDARD
END:VTIMEZONE
BEGIN:VEVENT
DTSTART;TZID=UTC:20201129T120000
DTEND;TZID=UTC:20201129T170000
DTSTAMP:20260421T044655
CREATED:20200926T021022Z
LAST-MODIFIED:20201110T155738Z
UID:17399-1606651200-1606669200@slovaklegion.com
SUMMARY:Slovak Legion Perogie & Spaghetti & Meatball Takeout or *Curbside Pickup Nov 29
DESCRIPTION:Slovak Legion Perogie & Spaghetti & Meatballs\nTAKEOUT or *Curbside Pickup\nSunday November 29\, 2020 12pm to 5pm\n\n\n\n\n\nThis Sunday the Slovak Legion will try to serve our community. We will be following New Health Regulations. We have our Chef and as long as our volunteers support this endeavour we will continue.\n\nPerogies by the Dozen and/or Spaghetti & Meatballs Takeout OR *Curbside Pickup\nSunday November 29 from 12 to 5pm Menu\n\nPerogies by the Dozen $6\nSpaghetti & 5 meatballs $12\nRavioli & 3 meatballs $13\n10 Meatballs $12\nLitre of Sauce $11\nGluten free available for $14 per order…MUST pre-order by calling 623-3354\n\nWhile supplies last\nDessert $4\nSlovak Cabbage Rolls with Meat $12 dozen\n\nWe must supply containers because of New Health Rules during these times and they will be free. You cannot bring your own pots following New Health Rules during these times.\n\n\nTakeout: Please enter by Bar Door\, Cash\, Debit\, and Credit Card payment accepted. Social Distancing enforced. Thank you.\n\n*Curbside Pickup: Phone 623-3354 Ext 2 Sunday from 11am to 4pm to pre-order\, arrange a time\, pick up order at the Slovak Legion Main Door under the carport. If preferred\, leave messages all week long and we will get back to you.\n\nTakeout and Pickup Times run from 12 to 5pm\nThank you for supporting the Slovak Legion. We are here for our community and thank everyone who comes out to support us while enjoying some great food.\n\nSlovak Legion 623-3354 Ext 2\n801 Atlantic Avenue Thunder Bay P7C 2T3\nSlovak Legion just over the Pacific bridge to your left or use the Main Street Bridge.\n\nAlternative Directions to the Slovak Legion 801 Atlantic Avenue using Main Street Bridge\n1 Go to the corner of the Harbour Expressway and Fort William Road and proceed down Main Street over the Main Street Bridge.\n2 Go to the end and turn turn right onto 110th Ave/Island Dr.\n3 Watch for the Slovak Legion sign and turn. Your delicious Curbside and Takeout are waiting for you.\n\n\nWe must supply containers because of New Health Rules during these times and they will be free. You cannot bring your own pots following New Health Rules during these times.\n\nTakeout: Please enter by Bar Door\, Cash\, Debit\, and Credit Card payment accepted. Social Distancing enforced. Leave by Solarium Door. Thank you.\n\n*Curbside Pickup: Phone 623-3354 Ext 2 Sunday from 11am to 4pm to pre-order\, arrange a time\, pick up order at the Slovak Legion Main Door under the carport.\n\nTakeout and Pickup Times run from 12 to 5pm.\nThank you for supporting the Slovak Legion.\n\nSlovak Legion 623-3354 Ext 2\n801 Atlantic Avenue Thunder Bay P7C 2T3\nSlovak Legion just over the Pacific bridge to your left or use the Main Street Bridge.\n\nAlternative Directions to the Slovak Legion 801 Atlantic Avenue using Main Street Bridge\n1 Go to the corner of the Harbour Expressway and Fort William Road and proceed down Main Street over the Main Street Bridge.\n2 Go to the end and turn turn right onto 110th Ave/Island Dr.\n3 Watch for the Slovak Legion sign and turn. Your delicious Curbside and Takeout are waiting for you.
URL:http://slovaklegion.com/event/slovak-legion-perogie-spaghetti-nov29eatball-takeout-or-curbside-pickup-2/
LOCATION:The Slovak Legion\, 801 Atlantic Ave\, Thunder Bay\, Ontario\, P7C 2T3\, Canada
CATEGORIES:Public
END:VEVENT
END:VCALENDAR