BEGIN:VCALENDAR
VERSION:2.0
PRODID:-//Royal Canadian Slovak Legion Branch #129 - ECPv5.15.0//NONSGML v1.0//EN
CALSCALE:GREGORIAN
METHOD:PUBLISH
X-WR-CALNAME:Royal Canadian Slovak Legion Branch #129
X-ORIGINAL-URL:http://slovaklegion.com
X-WR-CALDESC:Events for Royal Canadian Slovak Legion Branch #129
BEGIN:VTIMEZONE
TZID:UTC
BEGIN:STANDARD
TZOFFSETFROM:+0000
TZOFFSETTO:+0000
TZNAME:UTC
DTSTART:20200101T000000
END:STANDARD
END:VTIMEZONE
BEGIN:VEVENT
DTSTART;TZID=UTC:20200913T120000
DTEND;TZID=UTC:20200913T170000
DTSTAMP:20260421T163941
CREATED:20200827T165819Z
LAST-MODIFIED:20200829T160952Z
UID:17353-1599998400-1600016400@slovaklegion.com
SUMMARY:Slovak Legion Perogie & Spaghetti & Meatball Takeout or *Curbside Pickup
DESCRIPTION:Slovak Legion Perogie & Spaghetti & Meatballs \nTAKEOUT or *Curbside Pickup\nSunday September 13\, 2020 12pm to 5pm\n\n\n\nThis Sunday and every Sunday the Slovak Legion will try to serve our community. We will be following New Health Regulations. We have our Chef and as long as our volunteers support this endeavour we will continue.\n\nPerogies by the Dozen and/or Spaghetti Takeout OR *Curbside Pickup\nSunday September 13 from 12 to 5pm Menu\n\nPerogies by the Dozen $6\nSpaghetti & 5 meatballs $12\nRavioli & 3 meatballs $13\n10 Meatballs $12\nLitre of Sauce $11\nGluten free available for $14 per order…MUST pre-order by calling 623-3354\n\nWhile supplies last\nSlovak Cabbage Rolls with Meat $12 a dozen\nApple Pie or Cherry Cheesecake $4\n\nWe must supply containers because of New Health Rules during these times and they will be free. You cannot bring your own pots following New Health Rules during these times.\n\nTakeout: Please enter by Bar Door\, Cash\, Debit\, and Credit Card payment accepted. Social Distancing enforced. Leave by Solarium Door. Thank you.\n\n*Curbside Pickup: Phone 623-3354 Ext 2 Sunday from 11am to 4pm to pre-order\, arrange a time\, pick up order at the Slovak Legion Main Door under the carport.\nTakeout and Pickup Times run from 12 to 5pm\n\nThank you for supporting the Slovak Legion.\n\nSlovak Legion 623-3354 Ext 2\n801 Atlantic Avenue Thunder Bay P7C 2T3\nSlovak Legion just over the Pacific bridge to your left or use the Main Street Bridge to avoid construction.\n\nAlternative Directions to the Slovak Legion 801 Atlantic Avenue using Main Street Bridge\n(To avoid using the East End Bridge during City Repair Work or to avoid the Construction work around Pacific Avenue and Simpson Street. you can use the Main Street Bridge)\n1 Go to the corner of the Harbour Expressway and Fort William Road and proceed down Main Street over the Main Street Bridge.\n2 Go to the end and turn turn right onto 110th Ave/Island Dr.\n3 Watch for the Slovak Legion sign and turn. Your delicious Curbside and Takeout are waiting for you
URL:http://slovaklegion.com/event/slovak-legion-perogie-spaghetti-meatball-takeout-or-curbside-pickup/
LOCATION:The Slovak Legion\, 801 Atlantic Ave\, Thunder Bay\, Ontario\, P7C 2T3\, Canada
CATEGORIES:Public
END:VEVENT
END:VCALENDAR