BEGIN:VCALENDAR
VERSION:2.0
PRODID:-//Royal Canadian Slovak Legion Branch #129 - ECPv5.15.0//NONSGML v1.0//EN
CALSCALE:GREGORIAN
METHOD:PUBLISH
X-WR-CALNAME:Royal Canadian Slovak Legion Branch #129
X-ORIGINAL-URL:http://slovaklegion.com
X-WR-CALDESC:Events for Royal Canadian Slovak Legion Branch #129
BEGIN:VTIMEZONE
TZID:UTC
BEGIN:STANDARD
TZOFFSETFROM:+0000
TZOFFSETTO:+0000
TZNAME:UTC
DTSTART:20220101T000000
END:STANDARD
END:VTIMEZONE
BEGIN:VEVENT
DTSTART;TZID=UTC:20221201T113000
DTEND;TZID=UTC:20221202T133000
DTSTAMP:20260420T201952
CREATED:20221129T194523Z
LAST-MODIFIED:20221201T190802Z
UID:19003-1669894200-1669987800@slovaklegion.com
SUMMARY:Slovak Legion Lunch Buffets Thurs and Fri 11:30am TO 1:30pm
DESCRIPTION:On behalf of the Royal Canadian Slovak Legion Branch#129\, we are pleased to welcome our Patrons back for our famous Lunch Buffets Thursdays and Fridays from 11:30am to 1:30pm with Bar.  Includes dessert and pop/coffee/tea.   \nThe Bar also remains open for the rest of the day for socializing.  The Slovak Restaurant opens at 5pm.
URL:http://slovaklegion.com/event/slovak-legion-lunch-buffets-thurs-and-fri-1130am-to-130pm-2/2022-12-01/
LOCATION:The Slovak Legion\, 801 Atlantic Ave\, Thunder Bay\, Ontario\, P7C 2T3\, Canada
CATEGORIES:Public
END:VEVENT
END:VCALENDAR